BEGIN:VCALENDAR
VERSION:2.0
PRODID:-//Bernischer Kantonal-Musikverband BKMV - ECPv6.15.15//NONSGML v1.0//EN
CALSCALE:GREGORIAN
METHOD:PUBLISH
X-WR-CALNAME:Bernischer Kantonal-Musikverband BKMV
X-ORIGINAL-URL:https://bkmv.ch
X-WR-CALDESC:Veranstaltungen im Bernischer Kantonal-Musikverband BKMV
REFRESH-INTERVAL;VALUE=DURATION:PT1H
X-Robots-Tag:noindex
X-PUBLISHED-TTL:PT1H
BEGIN:VTIMEZONE
TZID:Europe/Zurich
BEGIN:DAYLIGHT
TZOFFSETFROM:+0100
TZOFFSETTO:+0200
TZNAME:CEST
DTSTART:20220327T010000
END:DAYLIGHT
BEGIN:STANDARD
TZOFFSETFROM:+0200
TZOFFSETTO:+0100
TZNAME:CET
DTSTART:20221030T010000
END:STANDARD
BEGIN:DAYLIGHT
TZOFFSETFROM:+0100
TZOFFSETTO:+0200
TZNAME:CEST
DTSTART:20230326T010000
END:DAYLIGHT
BEGIN:STANDARD
TZOFFSETFROM:+0200
TZOFFSETTO:+0100
TZNAME:CET
DTSTART:20231029T010000
END:STANDARD
BEGIN:DAYLIGHT
TZOFFSETFROM:+0100
TZOFFSETTO:+0200
TZNAME:CEST
DTSTART:20240331T010000
END:DAYLIGHT
BEGIN:STANDARD
TZOFFSETFROM:+0200
TZOFFSETTO:+0100
TZNAME:CET
DTSTART:20241027T010000
END:STANDARD
BEGIN:DAYLIGHT
TZOFFSETFROM:+0100
TZOFFSETTO:+0200
TZNAME:CEST
DTSTART:20250330T010000
END:DAYLIGHT
BEGIN:STANDARD
TZOFFSETFROM:+0200
TZOFFSETTO:+0100
TZNAME:CET
DTSTART:20251026T010000
END:STANDARD
END:VTIMEZONE
BEGIN:VEVENT
DTSTART;TZID=Europe/Zurich:20240419T190000
DTEND;TZID=Europe/Zurich:20240419T220000
DTSTAMP:20260421T051228
CREATED:20240330T075337Z
LAST-MODIFIED:20240330T075337Z
UID:10000010-1713553200-1713564000@bkmv.ch
SUMMARY:Frühlingskonzert und Theater MG Test
DESCRIPTION:aghäöhsrelhklök
URL:https://bkmv.ch/event/fruehlingskonzert-und-theater-mg-test/
LOCATION:Därstetten Turnhalle\, Schulhaus\, Därstetten\, 3763\, Switzerland
END:VEVENT
BEGIN:VEVENT
DTSTART;TZID=Europe/Zurich:20240419T080000
DTEND;TZID=Europe/Zurich:20240419T170000
DTSTAMP:20260421T051228
CREATED:20240330T075503Z
LAST-MODIFIED:20240330T075503Z
UID:10000011-1713513600-1713546000@bkmv.ch
SUMMARY:Konzert Thun
DESCRIPTION:asgögkjepgk \n  \nLebenslauf Samuel Studer PDF
URL:https://bkmv.ch/event/konzert-thun/
LOCATION:Därstetten Turnhalle\, Schulhaus\, Därstetten\, 3763\, Switzerland
END:VEVENT
BEGIN:VEVENT
DTSTART;TZID=Europe/Zurich:20231223T200000
DTEND;TZID=Europe/Zurich:20231223T214500
DTSTAMP:20260421T051228
CREATED:20231202T062341Z
LAST-MODIFIED:20231202T062518Z
UID:10000008-1703361600-1703367900@bkmv.ch
SUMMARY:Adventskonzert Musikgesellschaft Därstetten
DESCRIPTION:Wir freuen uns auf viele durstige Gäste aus nah und fern. Anschliessend ans Konzert spielt das Ensemble Glogg zu Glühwein und Punsch
URL:https://bkmv.ch/event/adventskonzert/
LOCATION:Därstetten Turnhalle\, Schulhaus\, Därstetten\, 3763\, Switzerland
END:VEVENT
END:VCALENDAR