BEGIN:VCALENDAR
VERSION:2.0
PRODID:-//Bernischer Kantonal-Musikverband BKMV - ECPv6.15.15//NONSGML v1.0//EN
CALSCALE:GREGORIAN
METHOD:PUBLISH
X-ORIGINAL-URL:https://bkmv.ch
X-WR-CALDESC:Veranstaltungen im Bernischer Kantonal-Musikverband BKMV
REFRESH-INTERVAL;VALUE=DURATION:PT1H
X-Robots-Tag:noindex
X-PUBLISHED-TTL:PT1H
BEGIN:VTIMEZONE
TZID:Europe/Zurich
BEGIN:DAYLIGHT
TZOFFSETFROM:+0100
TZOFFSETTO:+0200
TZNAME:CEST
DTSTART:20240331T010000
END:DAYLIGHT
BEGIN:STANDARD
TZOFFSETFROM:+0200
TZOFFSETTO:+0100
TZNAME:CET
DTSTART:20241027T010000
END:STANDARD
BEGIN:DAYLIGHT
TZOFFSETFROM:+0100
TZOFFSETTO:+0200
TZNAME:CEST
DTSTART:20250330T010000
END:DAYLIGHT
BEGIN:STANDARD
TZOFFSETFROM:+0200
TZOFFSETTO:+0100
TZNAME:CET
DTSTART:20251026T010000
END:STANDARD
BEGIN:DAYLIGHT
TZOFFSETFROM:+0100
TZOFFSETTO:+0200
TZNAME:CEST
DTSTART:20260329T010000
END:DAYLIGHT
BEGIN:STANDARD
TZOFFSETFROM:+0200
TZOFFSETTO:+0100
TZNAME:CET
DTSTART:20261025T010000
END:STANDARD
END:VTIMEZONE
BEGIN:VEVENT
DTSTART;VALUE=DATE:20250510
DTEND;VALUE=DATE:20250511
DTSTAMP:20260420T145207
CREATED:20250318T092706Z
LAST-MODIFIED:20250318T092840Z
UID:10000201-1746835200-1746921599@bkmv.ch
SUMMARY:Jahreskonzert Jugendmusik Unterseen & Sommerkonzert Musikverein Interlaken Unterseen
DESCRIPTION:Flyer
URL:https://bkmv.ch/event/jahreskonzert-jugendmusik-unterseen-sommerkonzert-musikverein-interlaken-unterseen/
LOCATION:3852 Ringgenberg
END:VEVENT
END:VCALENDAR