BEGIN:VCALENDAR
VERSION:2.0
PRODID:-//Bernischer Kantonal-Musikverband BKMV - ECPv6.15.15//NONSGML v1.0//EN
CALSCALE:GREGORIAN
METHOD:PUBLISH
X-WR-CALNAME:Bernischer Kantonal-Musikverband BKMV
X-ORIGINAL-URL:https://bkmv.ch
X-WR-CALDESC:Veranstaltungen im Bernischer Kantonal-Musikverband BKMV
REFRESH-INTERVAL;VALUE=DURATION:PT1H
X-Robots-Tag:noindex
X-PUBLISHED-TTL:PT1H
BEGIN:VTIMEZONE
TZID:Europe/Zurich
BEGIN:DAYLIGHT
TZOFFSETFROM:+0100
TZOFFSETTO:+0200
TZNAME:CEST
DTSTART:20260329T010000
END:DAYLIGHT
BEGIN:STANDARD
TZOFFSETFROM:+0200
TZOFFSETTO:+0100
TZNAME:CET
DTSTART:20261025T010000
END:STANDARD
BEGIN:DAYLIGHT
TZOFFSETFROM:+0100
TZOFFSETTO:+0200
TZNAME:CEST
DTSTART:20270328T010000
END:DAYLIGHT
BEGIN:STANDARD
TZOFFSETFROM:+0200
TZOFFSETTO:+0100
TZNAME:CET
DTSTART:20271031T010000
END:STANDARD
BEGIN:DAYLIGHT
TZOFFSETFROM:+0100
TZOFFSETTO:+0200
TZNAME:CEST
DTSTART:20280326T010000
END:DAYLIGHT
BEGIN:STANDARD
TZOFFSETFROM:+0200
TZOFFSETTO:+0100
TZNAME:CET
DTSTART:20281029T010000
END:STANDARD
END:VTIMEZONE
BEGIN:VEVENT
DTSTART;VALUE=DATE:20270205
DTEND;VALUE=DATE:20270206
DTSTAMP:20260424T214913
CREATED:20260424T122831Z
LAST-MODIFIED:20260424T122831Z
UID:10001612-1801785600-1801871999@bkmv.ch
SUMMARY:Jahreskonzert der Musikgesellschaft Thörigen
DESCRIPTION:Konzertdaten\nFr. 05.02.2027 um 20.00 Uhr\nSa. 06.02.2027 um 20.00 Uhr
URL:https://bkmv.ch/event/jahreskonzert-der-musikgesellschaft-thoerigen-2-2/
LOCATION:Mehrzweckhalle Thörigen
END:VEVENT
BEGIN:VEVENT
DTSTART;VALUE=DATE:20270206
DTEND;VALUE=DATE:20270207
DTSTAMP:20260424T214914
CREATED:20260424T122503Z
LAST-MODIFIED:20260424T122503Z
UID:10001613-1801872000-1801958399@bkmv.ch
SUMMARY:Jahreskonzert der Musikgesellschaft Thörigen
DESCRIPTION:Konzertdaten\nFr. 05.02.2027 um 20.00 Uhr\nSa. 06.02.2027 um 20.00 Uhr
URL:https://bkmv.ch/event/jahreskonzert-der-musikgesellschaft-thoerigen-2/2027-02-06/
LOCATION:Mehrzweckhalle Thörigen
END:VEVENT
END:VCALENDAR