BEGIN:VCALENDAR
VERSION:2.0
PRODID:-//Bernischer Kantonal-Musikverband BKMV - ECPv6.15.15//NONSGML v1.0//EN
CALSCALE:GREGORIAN
METHOD:PUBLISH
X-ORIGINAL-URL:https://bkmv.ch
X-WR-CALDESC:Veranstaltungen im Bernischer Kantonal-Musikverband BKMV
REFRESH-INTERVAL;VALUE=DURATION:PT1H
X-Robots-Tag:noindex
X-PUBLISHED-TTL:PT1H
BEGIN:VTIMEZONE
TZID:Europe/Zurich
BEGIN:DAYLIGHT
TZOFFSETFROM:+0100
TZOFFSETTO:+0200
TZNAME:CEST
DTSTART:20240331T010000
END:DAYLIGHT
BEGIN:STANDARD
TZOFFSETFROM:+0200
TZOFFSETTO:+0100
TZNAME:CET
DTSTART:20241027T010000
END:STANDARD
BEGIN:DAYLIGHT
TZOFFSETFROM:+0100
TZOFFSETTO:+0200
TZNAME:CEST
DTSTART:20250330T010000
END:DAYLIGHT
BEGIN:STANDARD
TZOFFSETFROM:+0200
TZOFFSETTO:+0100
TZNAME:CET
DTSTART:20251026T010000
END:STANDARD
BEGIN:DAYLIGHT
TZOFFSETFROM:+0100
TZOFFSETTO:+0200
TZNAME:CEST
DTSTART:20260329T010000
END:DAYLIGHT
BEGIN:STANDARD
TZOFFSETFROM:+0200
TZOFFSETTO:+0100
TZNAME:CET
DTSTART:20261025T010000
END:STANDARD
END:VTIMEZONE
BEGIN:VEVENT
DTSTART;VALUE=DATE:20250308
DTEND;VALUE=DATE:20250309
DTSTAMP:20260420T064045
CREATED:20250129T084228Z
LAST-MODIFIED:20250129T084325Z
UID:10000158-1741392000-1741478399@bkmv.ch
SUMMARY:Fasnacht mit der Musikgesellschaft Farnern
DESCRIPTION:Flyer – Fasnacht \nStändeli der Musikgesellschaft Farnern ab 13.30 h im Dorf\, Skihüttenparty in beheizter Alphütte 13.30 – 02.00 h
URL:https://bkmv.ch/event/fasnacht-mit-der-musikgesellschaft-farnern/
LOCATION:Farnern\, Schulhausplatz
END:VEVENT
BEGIN:VEVENT
DTSTART;VALUE=DATE:20250308
DTEND;VALUE=DATE:20250309
DTSTAMP:20260420T064045
CREATED:20250204T133859Z
LAST-MODIFIED:20250204T150414Z
UID:10000164-1741392000-1741478399@bkmv.ch
SUMMARY:Jahreskonzert MG Dürrenroth & Wyssachen
DESCRIPTION:Flyer – Jahreskonzert MG Wyssachen & Dürrenroth
URL:https://bkmv.ch/event/jahreskonzert-mg-wyssachen-duerrenroth/
LOCATION:Chipfhalle Dürrenroth
END:VEVENT
BEGIN:VEVENT
DTSTART;VALUE=DATE:20250309
DTEND;VALUE=DATE:20250310
DTSTAMP:20260420T064045
CREATED:20250129T084502Z
LAST-MODIFIED:20250129T084502Z
UID:10000159-1741478400-1741564799@bkmv.ch
SUMMARY:Fasnacht mit der Musikgesellschaft Farnern
DESCRIPTION:Flyer – Fasnacht \nSkihüttenparty in beheizter Alphütte 14.00 – 24.00 h; Bööggenbetrieb im Dorf.
URL:https://bkmv.ch/event/fasnacht-mit-der-musikgesellschaft-farnern-2/
LOCATION:Farnern\, Schulhausplatz
END:VEVENT
BEGIN:VEVENT
DTSTART;VALUE=DATE:20250309
DTEND;VALUE=DATE:20250310
DTSTAMP:20260420T064045
CREATED:20250204T134546Z
LAST-MODIFIED:20250204T150257Z
UID:10000165-1741478400-1741564799@bkmv.ch
SUMMARY:Jahreskonzert MG Dürrenroth & Wyssachen
DESCRIPTION:Flyer – Jahreskonzert MG Wyssachen & Dürrenroth
URL:https://bkmv.ch/event/jahreskonzert-mg-wyssachen-duerrenroth-4/
LOCATION:Chipfhalle Dürrenroth
END:VEVENT
BEGIN:VEVENT
DTSTART;VALUE=DATE:20250312
DTEND;VALUE=DATE:20250313
DTSTAMP:20260420T064045
CREATED:20241002T071010Z
LAST-MODIFIED:20250218T080714Z
UID:10000065-1741737600-1741823999@bkmv.ch
SUMMARY:Themenworkshop Gehörschutz BKMV
DESCRIPTION:Flyer Themenworkshop Gehörschutz \nWorkshop mit Stefanie Hänni \n19.30 Uhr – 22.00 Uhr \nAnrede *HerrFrauVorname *Name *Adresse *Stadt *PLZ *MusikvereinTelefon *E-Mail *Fragen\, Terminvorschläge Bitte bestätigen *CHF 100.00 pro Stunde zuzüglich Spesen (0.75 CHF/km)Rechnungsstellung direkt durch Patrick Robatel Absenden
URL:https://bkmv.ch/event/themenworkshop-gehoerschutz-bkmv-2/
LOCATION:Kompetenzzentrum Militärmusik Kaserne Bern\, Papiermühlestrasse 13b\, Bern\, 3014
END:VEVENT
BEGIN:VEVENT
DTSTART;VALUE=DATE:20250314
DTEND;VALUE=DATE:20250315
DTSTAMP:20260420T064045
CREATED:20240730T062904Z
LAST-MODIFIED:20250218T084128Z
UID:10000039-1741910400-1741996799@bkmv.ch
SUMMARY:Jahreskonzert der Musikgesellschaft Sumiswald
DESCRIPTION:Flyer Jahreskonzert \n\n14. März 2025\, 20.00 Uhr\n15. März 2025\, 20.00 Uhr\n16. März 2025\, 14.00 Uhr\n\njeweils in der Aula Sumiswald \nFreitag und Samstag mit Schätzwettbewerb\, Festwirtschaft und Bar \nSonntag mit Kinderwettbewerb
URL:https://bkmv.ch/event/jahreskonzerte-musikgesellschaft-sumiswald/
LOCATION:Aula\, Sumiswald
END:VEVENT
BEGIN:VEVENT
DTSTART;VALUE=DATE:20250315
DTEND;VALUE=DATE:20250316
DTSTAMP:20260420T064045
CREATED:20241221T055904Z
LAST-MODIFIED:20250218T084011Z
UID:10000140-1741996800-1742083199@bkmv.ch
SUMMARY:Jahreskonzert der Musikgesellschaft Sumiswald
DESCRIPTION:Flyer Jahreskonzert \n\n14. März 2025\, 20.00 Uhr\n15. März 2025\, 20.00 Uhr\n16. März 2025\, 14.00 Uhr\n\njeweils in der Aula Sumiswald \nFreitag und Samstag mit Schätzwettbewerb\, Festwirtschaft und Bar \nSonntag mit Kinderwettbewerb
URL:https://bkmv.ch/event/jahreskonzert-der-musikgesellschaft-sumiswald/
LOCATION:Aula\, Sumiswald
END:VEVENT
BEGIN:VEVENT
DTSTART;VALUE=DATE:20250315
DTEND;VALUE=DATE:20250316
DTSTAMP:20260420T064045
CREATED:20250126T212107Z
LAST-MODIFIED:20250126T213619Z
UID:10000150-1741996800-1742083199@bkmv.ch
SUMMARY:Jubiläumsjahreskonzert der Musikgesellschaft Utzigen
DESCRIPTION:
URL:https://bkmv.ch/event/jubilaeumsjahreskonzert-der-musikgesellschaft-utzigen/
LOCATION:Oberstufenzentrum 3067 Boll
END:VEVENT
BEGIN:VEVENT
DTSTART;VALUE=DATE:20250315
DTEND;VALUE=DATE:20250316
DTSTAMP:20260420T064045
CREATED:20250218T101807Z
LAST-MODIFIED:20250218T101917Z
UID:10000178-1741996800-1742083199@bkmv.ch
SUMMARY:Konzert und Theater der Musikgesellschaft Riggisberg
DESCRIPTION:Flyer – Konzert und Theater Musikgesellschaft Riggisberg
URL:https://bkmv.ch/event/konzert-und-theater-der-musikgesellschaft-riggisberg/
LOCATION:Turnhalle Schulhaus Aebnit Riggisberg
END:VEVENT
BEGIN:VEVENT
DTSTART;VALUE=DATE:20250316
DTEND;VALUE=DATE:20250317
DTSTAMP:20260420T064045
CREATED:20250129T090008Z
LAST-MODIFIED:20250129T090330Z
UID:10000160-1742083200-1742169599@bkmv.ch
SUMMARY:Teekonzert Musikverein Interlaken Unterseen
DESCRIPTION:Flyer – Teekonzert \nMusik verbindet – und das in jedem Alter! Freuen Sie sich auf einen abwechslungsreichen Nachmittag mit Märschen\, zauberhaften Klängen aus Aladdin und vielem mehr! \n 
URL:https://bkmv.ch/event/teekonzert-musikverein-interlaken-unterseen/
LOCATION:3800 Matten bei Interlaken
END:VEVENT
BEGIN:VEVENT
DTSTART;VALUE=DATE:20250316
DTEND;VALUE=DATE:20250317
DTSTAMP:20260420T064045
CREATED:20241221T055928Z
LAST-MODIFIED:20250218T083906Z
UID:10000139-1742083200-1742169599@bkmv.ch
SUMMARY:Jahreskonzert der Musikgesellschaft Sumiswald
DESCRIPTION:Flyer Jahreskonzert \n\n14. März 2025\, 20.00 Uhr\n15. März 2025\, 20.00 Uhr\n16. März 2025\, 14.00 Uhr\n\njeweils in der Aula Sumiswald \nFreitag und Samstag mit Schätzwettbewerb\, Festwirtschaft und Bar \nSonntag mit Kinderwettbewerb
URL:https://bkmv.ch/event/jahreskonzert-der-musikgesellschaft-sumiswald-2/
LOCATION:Aula\, Sumiswald
END:VEVENT
BEGIN:VEVENT
DTSTART;VALUE=DATE:20250316
DTEND;VALUE=DATE:20250317
DTSTAMP:20260420T064045
CREATED:20250126T212155Z
LAST-MODIFIED:20250126T213526Z
UID:10000151-1742083200-1742169599@bkmv.ch
SUMMARY:Jubiläumsjahreskonzert der Musikgesellschaft Utzigen
DESCRIPTION:
URL:https://bkmv.ch/event/jubilaeumsjahreskonzert-der-musikgesellschaft-utzigen-2/
LOCATION:Oberstufenzentrum 3067 Boll
END:VEVENT
BEGIN:VEVENT
DTSTART;VALUE=DATE:20250316
DTEND;VALUE=DATE:20250317
DTSTAMP:20260420T064045
CREATED:20250218T101955Z
LAST-MODIFIED:20250218T101955Z
UID:10000179-1742083200-1742169599@bkmv.ch
SUMMARY:Konzert und Theater der Musikgesellschaft Riggisberg
DESCRIPTION:Flyer – Konzert und Theater Musikgesellschaft Riggisberg
URL:https://bkmv.ch/event/konzert-und-theater-der-musikgesellschaft-riggisberg-2/
LOCATION:Turnhalle Schulhaus Aebnit Riggisberg
END:VEVENT
BEGIN:VEVENT
DTSTART;VALUE=DATE:20250319
DTEND;VALUE=DATE:20250320
DTSTAMP:20260420T064045
CREATED:20250126T212240Z
LAST-MODIFIED:20250126T213400Z
UID:10000152-1742342400-1742428799@bkmv.ch
SUMMARY:Jubiläumsjahreskonzert der Musikgesellschaft Utzigen
DESCRIPTION:
URL:https://bkmv.ch/event/jubilaeumsjahreskonzert-der-musikgesellschaft-utzigen-3/
LOCATION:Oberstufenzentrum 3067 Boll
END:VEVENT
BEGIN:VEVENT
DTSTART;VALUE=DATE:20250321
DTEND;VALUE=DATE:20250322
DTSTAMP:20260420T064045
CREATED:20250204T134333Z
LAST-MODIFIED:20250204T134333Z
UID:10000166-1742515200-1742601599@bkmv.ch
SUMMARY:Jahreskonzert MG Wyssachen & Dürrenroth
DESCRIPTION:Flyer – Jahreskonzert MG Wyssachen & Dürrenroth
URL:https://bkmv.ch/event/jahreskonzert-mg-wyssachen-duerrenroth-2/
LOCATION:Kirchgemeindehaus Wyssachen
END:VEVENT
BEGIN:VEVENT
DTSTART;VALUE=DATE:20250322
DTEND;VALUE=DATE:20250323
DTSTAMP:20260420T064045
CREATED:20250204T134426Z
LAST-MODIFIED:20250204T134426Z
UID:10000167-1742601600-1742687999@bkmv.ch
SUMMARY:Jahreskonzert MG Wyssachen & Dürrenroth
DESCRIPTION:Flyer – Jahreskonzert MG Wyssachen & Dürrenroth
URL:https://bkmv.ch/event/jahreskonzert-mg-wyssachen-duerrenroth-3/
LOCATION:Kirchgemeindehaus Wyssachen
END:VEVENT
BEGIN:VEVENT
DTSTART;VALUE=DATE:20250322
DTEND;VALUE=DATE:20250323
DTSTAMP:20260420T064045
CREATED:20250304T084433Z
LAST-MODIFIED:20250304T085007Z
UID:10000188-1742601600-1742687999@bkmv.ch
SUMMARY:Frühlingskonzert der Musikgesellschaft Oberbalm
DESCRIPTION:Flyer Frühlingskonzert
URL:https://bkmv.ch/event/fruehlingskonzert-der-musikgesellschaft-oberbalm/
LOCATION:Mehrzweckhalle Oberbalm
END:VEVENT
BEGIN:VEVENT
DTSTART;VALUE=DATE:20250322
DTEND;VALUE=DATE:20250323
DTSTAMP:20260420T064045
CREATED:20250126T212323Z
LAST-MODIFIED:20250126T213204Z
UID:10000153-1742601600-1742687999@bkmv.ch
SUMMARY:Jubiläumsjahreskonzert der Musikgesellschaft Utzigen
DESCRIPTION:
URL:https://bkmv.ch/event/jubilaeumsjahreskonzert-der-musikgesellschaft-utzigen-4/
LOCATION:Oberstufenzentrum 3067 Boll
END:VEVENT
BEGIN:VEVENT
DTSTART;VALUE=DATE:20250322
DTEND;VALUE=DATE:20250323
DTSTAMP:20260420T064045
CREATED:20250218T091116Z
LAST-MODIFIED:20250218T091705Z
UID:10000175-1742601600-1742687999@bkmv.ch
SUMMARY:Jahreskonzert der Musikgesellschaft Eggiwil
DESCRIPTION:Flyer – Jahreskonzert MG Eggiwil
URL:https://bkmv.ch/event/jahreskonzert-der-musikgesellschaft-eggiwil/
LOCATION:Saal Gasthof Bären\, Eggiwil
END:VEVENT
BEGIN:VEVENT
DTSTART;VALUE=DATE:20250322
DTEND;VALUE=DATE:20250323
DTSTAMP:20260420T064045
CREATED:20250311T090456Z
LAST-MODIFIED:20250311T090609Z
UID:10000194-1742601600-1742687999@bkmv.ch
SUMMARY:Konzert & Theater der Musikgesellschaft Krattigen
DESCRIPTION:Flyer – Konzert und Theater
URL:https://bkmv.ch/event/konzert-theater-der-musikgesellschaft-krattigen/2025-03-22/
LOCATION:Turnhalle Krattigen
END:VEVENT
BEGIN:VEVENT
DTSTART;VALUE=DATE:20250323
DTEND;VALUE=DATE:20250324
DTSTAMP:20260420T064045
CREATED:20250304T084939Z
LAST-MODIFIED:20250304T090537Z
UID:10000189-1742688000-1742774399@bkmv.ch
SUMMARY:Frühlingskonzert der Musikgesellschaft Oberbalm
DESCRIPTION:Flyer Frühlingskonzert \nKonzertvorträge der Musikgesellschaft Oberbalm und dem Jodlerchörli Gürbegruess
URL:https://bkmv.ch/event/fruehlingskonzert-der-musikgesellschaft-oberbalm-2/
LOCATION:Mehrzweckhalle Oberbalm
END:VEVENT
BEGIN:VEVENT
DTSTART;VALUE=DATE:20250323
DTEND;VALUE=DATE:20250324
DTSTAMP:20260420T064045
CREATED:20250218T091235Z
LAST-MODIFIED:20250218T091724Z
UID:10000176-1742688000-1742774399@bkmv.ch
SUMMARY:Jahreskonzert der Musikgesellschaft Eggiwil
DESCRIPTION:Flyer – Jahreskonzert MG Eggiwil
URL:https://bkmv.ch/event/jahreskonzert-der-musikgesellschaft-eggiwil-2/
LOCATION:Saal Gasthof Bären\, Eggiwil
END:VEVENT
BEGIN:VEVENT
DTSTART;VALUE=DATE:20250323
DTEND;VALUE=DATE:20250324
DTSTAMP:20260420T064045
CREATED:20250311T090456Z
LAST-MODIFIED:20250311T090609Z
UID:10000196-1742688000-1742774399@bkmv.ch
SUMMARY:Konzert & Theater der Musikgesellschaft Krattigen
DESCRIPTION:Flyer – Konzert und Theater
URL:https://bkmv.ch/event/konzert-theater-der-musikgesellschaft-krattigen/2025-03-23/
LOCATION:Turnhalle Krattigen
END:VEVENT
BEGIN:VEVENT
DTSTART;VALUE=DATE:20250326
DTEND;VALUE=DATE:20250327
DTSTAMP:20260420T064045
CREATED:20250218T091348Z
LAST-MODIFIED:20250218T091716Z
UID:10000177-1742947200-1743033599@bkmv.ch
SUMMARY:Jahreskonzert der Musikgesellschaft Eggiwil
DESCRIPTION:Flyer – Jahreskonzert MG Eggiwil
URL:https://bkmv.ch/event/jahreskonzert-der-musikgesellschaft-eggiwil-3/
LOCATION:Saal Gasthof Bären\, Eggiwil
END:VEVENT
BEGIN:VEVENT
DTSTART;VALUE=DATE:20250326
DTEND;VALUE=DATE:20250327
DTSTAMP:20260420T064045
CREATED:20250304T082015Z
LAST-MODIFIED:20250304T082118Z
UID:10000182-1742947200-1743033599@bkmv.ch
SUMMARY:Konzert und Theater der Musikgesellschaft Reutigen
DESCRIPTION:Flyer Konzert und Theater
URL:https://bkmv.ch/event/konzert-und-theater-der-musikgesellschaft-reutigen/
LOCATION:Singsaal Schulhaus Reutigen
END:VEVENT
BEGIN:VEVENT
DTSTART;VALUE=DATE:20250328
DTEND;VALUE=DATE:20250329
DTSTAMP:20260420T064045
CREATED:20250304T082241Z
LAST-MODIFIED:20250304T082241Z
UID:10000183-1743120000-1743206399@bkmv.ch
SUMMARY:Konzert und Theater der Musikgesellschaft Reutigen
DESCRIPTION:Flyer Konzert und Theater
URL:https://bkmv.ch/event/konzert-und-theater-der-musikgesellschaft-reutigen-2/
LOCATION:Singsaal Schulhaus Reutigen
END:VEVENT
BEGIN:VEVENT
DTSTART;VALUE=DATE:20250329
DTEND;VALUE=DATE:20250330
DTSTAMP:20260420T064045
CREATED:20250129T084025Z
LAST-MODIFIED:20250129T084025Z
UID:10000157-1743206400-1743292799@bkmv.ch
SUMMARY:Jahreskonzert der Musikgesellschaft Farnern
DESCRIPTION:Flyer – Jahreskonzert MG Farnern \nJahreskonzert 20.00 h\, Türöffnung 18.30 h
URL:https://bkmv.ch/event/jahreskonzert-der-musikgesellschaft-farnern-2/
LOCATION:Rumisberg\, Turnhalle
END:VEVENT
BEGIN:VEVENT
DTSTART;VALUE=DATE:20250329
DTEND;VALUE=DATE:20250330
DTSTAMP:20260420T064045
CREATED:20241002T065430Z
LAST-MODIFIED:20250206T085804Z
UID:10000062-1743206400-1743292799@bkmv.ch
SUMMARY:Instrumental-Workshop BKMV
DESCRIPTION:Workshop für Waldhorn mit Christian Holenstein \nWorkshop für Euphonium/Bariton mit Jan Müller \nInstrumental-Workshops 2025 \nAnrede *HerrFrauVorname *Name *Adresse *Stadt *PLZ *MusikvereinTelefon *E-Mail *Anregungen und Fragen0 / 180 Bitte bestätigen *Die Kosten für den Workshop (30 Franken) werden vorgängig elektronisch in Rechnung gestellt. Absenden
URL:https://bkmv.ch/event/instrumental-workshops-bkmv/
LOCATION:Kompetenzzentrum Militärmusik Kaserne Bern\, Papiermühlestrasse 13b\, Bern\, 3014
ATTACH;FMTTYPE=image/png:https://bkmv.ch/wp-content/uploads/2024/10/Blasmusik-im-Kanton-Bern.png
END:VEVENT
BEGIN:VEVENT
DTSTART;VALUE=DATE:20250329
DTEND;VALUE=DATE:20250330
DTSTAMP:20260420T064045
CREATED:20250220T103052Z
LAST-MODIFIED:20250220T103052Z
UID:10000181-1743206400-1743292799@bkmv.ch
SUMMARY:Jahreskonzert "Cocktail in Harmony" der Musikgesellschaft Aarwangen
DESCRIPTION:Flyer – Jahreskonzert MG Aarwangen
URL:https://bkmv.ch/event/jahreskonzert-cocktail-in-harmony-der-musikgesellschaft-aarwangen-2/
LOCATION:Mehrzweckhalle Aarwangen
END:VEVENT
BEGIN:VEVENT
DTSTART;VALUE=DATE:20250329
DTEND;VALUE=DATE:20250330
DTSTAMP:20260420T064045
CREATED:20250304T082405Z
LAST-MODIFIED:20250304T082405Z
UID:10000184-1743206400-1743292799@bkmv.ch
SUMMARY:Konzert und Theater der Musikgesellschaft Reutigen
DESCRIPTION:Flyer Konzert und Theater
URL:https://bkmv.ch/event/konzert-und-theater-der-musikgesellschaft-reutigen-3/
LOCATION:Singsaal Schulhaus Reutigen
END:VEVENT
END:VCALENDAR