BEGIN:VCALENDAR
VERSION:2.0
PRODID:-//Bernischer Kantonal-Musikverband BKMV - ECPv6.15.15//NONSGML v1.0//EN
CALSCALE:GREGORIAN
METHOD:PUBLISH
X-WR-CALNAME:Bernischer Kantonal-Musikverband BKMV
X-ORIGINAL-URL:https://bkmv.ch
X-WR-CALDESC:Veranstaltungen im Bernischer Kantonal-Musikverband BKMV
REFRESH-INTERVAL;VALUE=DURATION:PT1H
X-Robots-Tag:noindex
X-PUBLISHED-TTL:PT1H
BEGIN:VTIMEZONE
TZID:Europe/Zurich
BEGIN:DAYLIGHT
TZOFFSETFROM:+0100
TZOFFSETTO:+0200
TZNAME:CEST
DTSTART:20240331T010000
END:DAYLIGHT
BEGIN:STANDARD
TZOFFSETFROM:+0200
TZOFFSETTO:+0100
TZNAME:CET
DTSTART:20241027T010000
END:STANDARD
BEGIN:DAYLIGHT
TZOFFSETFROM:+0100
TZOFFSETTO:+0200
TZNAME:CEST
DTSTART:20250330T010000
END:DAYLIGHT
BEGIN:STANDARD
TZOFFSETFROM:+0200
TZOFFSETTO:+0100
TZNAME:CET
DTSTART:20251026T010000
END:STANDARD
BEGIN:DAYLIGHT
TZOFFSETFROM:+0100
TZOFFSETTO:+0200
TZNAME:CEST
DTSTART:20260329T010000
END:DAYLIGHT
BEGIN:STANDARD
TZOFFSETFROM:+0200
TZOFFSETTO:+0100
TZNAME:CET
DTSTART:20261025T010000
END:STANDARD
END:VTIMEZONE
BEGIN:VEVENT
DTSTART;VALUE=DATE:20250502
DTEND;VALUE=DATE:20250503
DTSTAMP:20260419T203413
CREATED:20250410T091311Z
LAST-MODIFIED:20250410T091311Z
UID:10000414-1746144000-1746230399@bkmv.ch
SUMMARY:Frühlingskonzert der Musikgesellschaft Adelboden
DESCRIPTION:Mitwirkung durch das Jodelduett Monika und Brigitte
URL:https://bkmv.ch/event/fruehlingskonzert-der-musikgesellschaft-adelboden/
LOCATION:Kirche Adelboden
END:VEVENT
BEGIN:VEVENT
DTSTART;VALUE=DATE:20250502
DTEND;VALUE=DATE:20250503
DTSTAMP:20260419T203413
CREATED:20250402T131846Z
LAST-MODIFIED:20250402T133948Z
UID:10000215-1746144000-1746230399@bkmv.ch
SUMMARY:BEA - Auftritt der Musik Bremgarten-Kirchlindach
DESCRIPTION:
URL:https://bkmv.ch/event/bea-auftritt-der-musik-bremgarten-kirchlindach/
END:VEVENT
BEGIN:VEVENT
DTSTART;VALUE=DATE:20250502
DTEND;VALUE=DATE:20250503
DTSTAMP:20260419T203413
CREATED:20250402T125802Z
LAST-MODIFIED:20250402T125802Z
UID:10000209-1746144000-1746230399@bkmv.ch
SUMMARY:Jahreskonzert der Musikgesellschaft Zimmerwald-Niedermuhlern
DESCRIPTION:Flyer – Jahreskonzert
URL:https://bkmv.ch/event/jahreskonzert-der-musikgesellschaft-zimmerwald-niedermuhlern/2025-05-02/
LOCATION:Kirche Zimmerwald
END:VEVENT
BEGIN:VEVENT
DTSTART;VALUE=DATE:20250501
DTEND;VALUE=DATE:20250502
DTSTAMP:20260419T203413
CREATED:20250402T131513Z
LAST-MODIFIED:20250402T133641Z
UID:10000213-1746057600-1746143999@bkmv.ch
SUMMARY:BEA - Auftritt der Musikgesellschaft Konolfingen
DESCRIPTION:
URL:https://bkmv.ch/event/bea-auftritt-der-musikgesellschaft-konolfingen/
END:VEVENT
BEGIN:VEVENT
DTSTART;VALUE=DATE:20250430
DTEND;VALUE=DATE:20250501
DTSTAMP:20260419T203413
CREATED:20250402T132731Z
LAST-MODIFIED:20250402T133410Z
UID:10000219-1745971200-1746057599@bkmv.ch
SUMMARY:BEA - Auftritt Militärmusik\, Fanfare Brigade Mécanisée 1\, fanf mil br méc 1
DESCRIPTION:
URL:https://bkmv.ch/event/bea-auftritt-militaermusik-fanfare-brigade-mecanisee-1-fanf-mil-br-mec-1-2/
END:VEVENT
BEGIN:VEVENT
DTSTART;VALUE=DATE:20250428
DTEND;VALUE=DATE:20250429
DTSTAMP:20260419T203413
CREATED:20250402T131658Z
LAST-MODIFIED:20250402T133620Z
UID:10000214-1745798400-1745884799@bkmv.ch
SUMMARY:BEA - Auftritt der Musikgesellschaft Oberwil
DESCRIPTION:
URL:https://bkmv.ch/event/bea-auftritt-der-musikgesellschaft-oberwil/
END:VEVENT
BEGIN:VEVENT
DTSTART;VALUE=DATE:20250427
DTEND;VALUE=DATE:20250428
DTSTAMP:20260419T203413
CREATED:20250416T061338Z
LAST-MODIFIED:20250416T061642Z
UID:10000425-1745712000-1745798399@bkmv.ch
SUMMARY:Spaghetti-Plausch der Musikgesellschaft Schüpbach
DESCRIPTION:Flyer
URL:https://bkmv.ch/event/spaghetti-plausch-der-musikgesellschaft-schuepbach/
LOCATION:Turnhalle Schüpach
END:VEVENT
BEGIN:VEVENT
DTSTART;VALUE=DATE:20250427
DTEND;VALUE=DATE:20250428
DTSTAMP:20260419T203413
CREATED:20250402T131205Z
LAST-MODIFIED:20250402T133835Z
UID:10000212-1745712000-1745798399@bkmv.ch
SUMMARY:BEA - Auftritt der Musikgesellschaft Mühlethurnen
DESCRIPTION:
URL:https://bkmv.ch/event/bea-auftritt-musikgesellschaft-muehlethurnen/
END:VEVENT
BEGIN:VEVENT
DTSTART;VALUE=DATE:20250427
DTEND;VALUE=DATE:20250428
DTSTAMP:20260419T203413
CREATED:20250205T171724Z
LAST-MODIFIED:20250205T171724Z
UID:10000174-1745712000-1745798399@bkmv.ch
SUMMARY:Frühlingskonzert der Musikgesellschaft Meiringen
DESCRIPTION:ab 14.00 Uhr
URL:https://bkmv.ch/event/fruehlingskonzert-der-musikgesellschaft-meiringen-2/
LOCATION:Aula Meiringen
END:VEVENT
BEGIN:VEVENT
DTSTART;VALUE=DATE:20250426
DTEND;VALUE=DATE:20250427
DTSTAMP:20260419T203413
CREATED:20250416T060623Z
LAST-MODIFIED:20250416T061938Z
UID:10000423-1745625600-1745711999@bkmv.ch
SUMMARY:Unterhaltungskonzert der Musikgesellschaft Schüpbach
DESCRIPTION:Flyer – Unterhaltungskonzert
URL:https://bkmv.ch/event/unterhaltungskonzert-der-musikgesellschaft-schuepbach/2025-04-26/
LOCATION:Turnhalle Schüpach
END:VEVENT
BEGIN:VEVENT
DTSTART;VALUE=DATE:20250426
DTEND;VALUE=DATE:20250427
DTSTAMP:20260419T203413
CREATED:20250410T084833Z
LAST-MODIFIED:20250410T084926Z
UID:10000225-1745625600-1745711999@bkmv.ch
SUMMARY:Frühlingskonzert der Musikgesellschaft Rohrbach
DESCRIPTION:Flyer – Frühlingskonzert
URL:https://bkmv.ch/event/fruehlingskonzert-der-musikgesellschaft-rohrbach/2025-04-26/
LOCATION:Turnhalle\, 4938 Rohrbach
END:VEVENT
BEGIN:VEVENT
DTSTART;VALUE=DATE:20250426
DTEND;VALUE=DATE:20250427
DTSTAMP:20260419T203413
CREATED:20250402T133248Z
LAST-MODIFIED:20250402T151553Z
UID:10000220-1745625600-1745711999@bkmv.ch
SUMMARY:BEA - Auftritt Wind Kids der Musikschule Region Thun
DESCRIPTION:
URL:https://bkmv.ch/event/bea-auftritt-wind-kids-der-musikschule-region-thun/
END:VEVENT
BEGIN:VEVENT
DTSTART;VALUE=DATE:20250426
DTEND;VALUE=DATE:20250427
DTSTAMP:20260419T203413
CREATED:20250327T074824Z
LAST-MODIFIED:20250327T074824Z
UID:10000208-1745625600-1745711999@bkmv.ch
SUMMARY:Frühlingskonzert der Musikgesellschaft Frauenkappelen
DESCRIPTION:Flyer – Frühlingskonzert \nMitwirkung der Jugendmusik Bern-Bümpliz und der Jugendkappelle des Musikverein Neuthard (D)
URL:https://bkmv.ch/event/fruehlingskonzert-der-musikgesellschaft-frauenkappelen/2025-04-26/
LOCATION:Mehrzweckanlage Zälgli\, Frauenkappelen
END:VEVENT
BEGIN:VEVENT
DTSTART;VALUE=DATE:20250426
DTEND;VALUE=DATE:20250427
DTSTAMP:20260419T203413
CREATED:20250320T083532Z
LAST-MODIFIED:20250320T083559Z
UID:10000204-1745625600-1745711999@bkmv.ch
SUMMARY:Frühlingskonzert der Musikgesellschaft Wilderswil
DESCRIPTION:mit Musikerbar
URL:https://bkmv.ch/event/fruehlingskonzert-der-musikgesellschaft-wilderswil/
LOCATION:Mehrzweckhalle Wilderswil
END:VEVENT
BEGIN:VEVENT
DTSTART;VALUE=DATE:20250426
DTEND;VALUE=DATE:20250427
DTSTAMP:20260419T203413
CREATED:20250314T093451Z
LAST-MODIFIED:20250314T093824Z
UID:10000197-1745625600-1745711999@bkmv.ch
SUMMARY:Frühlingskonzert der Musikgesellschaft Linden
DESCRIPTION:Nachtessen ab 18.00 Uhr | Konzert um 20.00 Uhr
URL:https://bkmv.ch/event/fruehlingskonzert-der-musikgesellschaft-linden/
LOCATION:Mehrzweckhalle\, 3673 Linden
END:VEVENT
BEGIN:VEVENT
DTSTART;VALUE=DATE:20250426
DTEND;VALUE=DATE:20250427
DTSTAMP:20260419T203413
CREATED:20250304T083537Z
LAST-MODIFIED:20250304T121158Z
UID:10000187-1745625600-1745711999@bkmv.ch
SUMMARY:Frühlingskonzert Musikverein Erlenbach Diemtigtal
DESCRIPTION:Flyer Frühlingskonzert
URL:https://bkmv.ch/event/fruehlingskonzert-musikverein-erlenbach-diemtigtal/
LOCATION:Mehrzweckhalle Oey
END:VEVENT
BEGIN:VEVENT
DTSTART;VALUE=DATE:20250426
DTEND;VALUE=DATE:20250427
DTSTAMP:20260419T203413
CREATED:20250205T171612Z
LAST-MODIFIED:20250205T171748Z
UID:10000173-1745625600-1745711999@bkmv.ch
SUMMARY:Frühlingskonzert der Musikgesellschaft Meiringen
DESCRIPTION:ab 20.00 Uhr
URL:https://bkmv.ch/event/fruehlingskonzert-der-musikgesellschaft-meiringen/
LOCATION:Aula Meiringen
END:VEVENT
BEGIN:VEVENT
DTSTART;VALUE=DATE:20250426
DTEND;VALUE=DATE:20250427
DTSTAMP:20260419T203413
CREATED:20241030T103414Z
LAST-MODIFIED:20241030T103414Z
UID:10000088-1745625600-1745711999@bkmv.ch
SUMMARY:Jahreskonzert Musikgesellschaft Münchenbuchsee
DESCRIPTION:
URL:https://bkmv.ch/event/jahreskonzert-musikgesellschaft-muenchenbuchsee/
LOCATION:Saal- und Freizeitanlage\, Münchenbuchsee
END:VEVENT
BEGIN:VEVENT
DTSTART;VALUE=DATE:20250426
DTEND;VALUE=DATE:20250427
DTSTAMP:20260419T203413
CREATED:20240730T062138Z
LAST-MODIFIED:20241220T123243Z
UID:10000038-1745625600-1745711999@bkmv.ch
SUMMARY:Jahreskonzert der Musikgesellschaft Frutigen
DESCRIPTION:
URL:https://bkmv.ch/event/jahreskonzert-musikgesellschaft-frutigen/
LOCATION:Hotel Simplon\, Frutigen
END:VEVENT
BEGIN:VEVENT
DTSTART;VALUE=DATE:20250425
DTEND;VALUE=DATE:20250426
DTSTAMP:20260419T203413
CREATED:20250416T060623Z
LAST-MODIFIED:20250416T061938Z
UID:10000426-1745539200-1745625599@bkmv.ch
SUMMARY:Unterhaltungskonzert der Musikgesellschaft Schüpbach
DESCRIPTION:Flyer – Unterhaltungskonzert
URL:https://bkmv.ch/event/unterhaltungskonzert-der-musikgesellschaft-schuepbach/2025-04-25/
LOCATION:Turnhalle Schüpach
END:VEVENT
BEGIN:VEVENT
DTSTART;VALUE=DATE:20250425
DTEND;VALUE=DATE:20250426
DTSTAMP:20260419T203413
CREATED:20250410T084833Z
LAST-MODIFIED:20250410T084926Z
UID:10000223-1745539200-1745625599@bkmv.ch
SUMMARY:Frühlingskonzert der Musikgesellschaft Rohrbach
DESCRIPTION:Flyer – Frühlingskonzert
URL:https://bkmv.ch/event/fruehlingskonzert-der-musikgesellschaft-rohrbach/2025-04-25/
LOCATION:Turnhalle\, 4938 Rohrbach
END:VEVENT
BEGIN:VEVENT
DTSTART;VALUE=DATE:20250425
DTEND;VALUE=DATE:20250426
DTSTAMP:20260419T203413
CREATED:20250402T132601Z
LAST-MODIFIED:20250402T133435Z
UID:10000218-1745539200-1745625599@bkmv.ch
SUMMARY:BEA - Auftritt Militärmusik\, Fanfare Brigade Mécanisée 1\, fanf mil br méc 1
DESCRIPTION:
URL:https://bkmv.ch/event/bea-auftritt-militaermusik-fanfare-brigade-mecanisee-1-fanf-mil-br-mec-1/
END:VEVENT
BEGIN:VEVENT
DTSTART;VALUE=DATE:20250425
DTEND;VALUE=DATE:20250426
DTSTAMP:20260419T203413
CREATED:20250402T131038Z
LAST-MODIFIED:20250402T133741Z
UID:10000211-1745539200-1745625599@bkmv.ch
SUMMARY:BEA - Auftritt der Musikgesellschaft Jegenstorf
DESCRIPTION:
URL:https://bkmv.ch/event/bea-auftritt-musikgesellschaft-jegenstorf/
END:VEVENT
BEGIN:VEVENT
DTSTART;VALUE=DATE:20250425
DTEND;VALUE=DATE:20250426
DTSTAMP:20260419T203413
CREATED:20250327T074824Z
LAST-MODIFIED:20250327T074824Z
UID:10000207-1745539200-1745625599@bkmv.ch
SUMMARY:Frühlingskonzert der Musikgesellschaft Frauenkappelen
DESCRIPTION:Flyer – Frühlingskonzert \nMitwirkung der Jugendmusik Bern-Bümpliz und der Jugendkappelle des Musikverein Neuthard (D)
URL:https://bkmv.ch/event/fruehlingskonzert-der-musikgesellschaft-frauenkappelen/2025-04-25/
LOCATION:Mehrzweckanlage Zälgli\, Frauenkappelen
END:VEVENT
BEGIN:VEVENT
DTSTART;VALUE=DATE:20250421
DTEND;VALUE=DATE:20250422
DTSTAMP:20260419T203413
CREATED:20250318T092037Z
LAST-MODIFIED:20250318T092037Z
UID:10000200-1745193600-1745279999@bkmv.ch
SUMMARY:Ostermontags-Matinée der Chisetaler Blaskapelle
DESCRIPTION:Flyer – Matineekonzert
URL:https://bkmv.ch/event/ostermontags-matinee-der-chisetaler-blaskapelle/
LOCATION:Schlossgutsaal Münsingen
END:VEVENT
BEGIN:VEVENT
DTSTART;VALUE=DATE:20250419
DTEND;VALUE=DATE:20250420
DTSTAMP:20260419T203413
CREATED:20250311T083555Z
LAST-MODIFIED:20250311T083555Z
UID:10000191-1745020800-1745107199@bkmv.ch
SUMMARY:Kirchenkonzert der Musikgesellschaft Rüderswil
DESCRIPTION:Flyer – Kirchenkonzert
URL:https://bkmv.ch/event/kirchenkonzert-der-musikgesellschaft-ruederswil/
LOCATION:Kirche Rüderswil
END:VEVENT
BEGIN:VEVENT
DTSTART;VALUE=DATE:20250413
DTEND;VALUE=DATE:20250414
DTSTAMP:20260419T203413
CREATED:20241015T072012Z
LAST-MODIFIED:20241205T082640Z
UID:10000076-1744502400-1744588799@bkmv.ch
SUMMARY:BBO-Week Abschlusskonzert
DESCRIPTION:Flyer Abschlusskonzert BBO-Week
URL:https://bkmv.ch/event/bbo-week-abschlusskonzert-2/
LOCATION:Lötschbergsaal Spiez
END:VEVENT
BEGIN:VEVENT
DTSTART;VALUE=DATE:20250412
DTEND;VALUE=DATE:20250413
DTSTAMP:20260419T203413
CREATED:20250326T090349Z
LAST-MODIFIED:20250326T091233Z
UID:10000205-1744416000-1744502399@bkmv.ch
SUMMARY:Frühlingskonzert und Theater der Musikgesellschaft Oberried am Brienzersee
DESCRIPTION:Flyer Frühlingskonzert \n18.30 Türöffnung\, beginn Festwirtschaft\n20.00 Konzert der MG Oberried\nAnschliessend das Theater «Bsuech vom Land»\nim Anschluss öffnet die Kaffeestube und die Bar für Euch.
URL:https://bkmv.ch/event/fruehlingskonzert-und-theater-der-musikgesellschaft-oberried-am-brienzersee/
LOCATION:Turnhalle Oberried
END:VEVENT
BEGIN:VEVENT
DTSTART;VALUE=DATE:20250412
DTEND;VALUE=DATE:20250413
DTSTAMP:20260419T203413
CREATED:20250318T085156Z
LAST-MODIFIED:20250318T090319Z
UID:10000199-1744416000-1744502399@bkmv.ch
SUMMARY:Frühlingskonzert der Musikgesellschaft Brienzwiler
DESCRIPTION:Flyer – Frühlingskonzert \nGastsolist: Armin Bachmann\, Posaune \n 
URL:https://bkmv.ch/event/fruehlingskonzert-der-musikgesellschaft-brienzwiler/2025-04-12/
LOCATION:Mehrzweckhalle Brienzwiler
END:VEVENT
BEGIN:VEVENT
DTSTART;VALUE=DATE:20250411
DTEND;VALUE=DATE:20250412
DTSTAMP:20260419T203413
CREATED:20250318T085156Z
LAST-MODIFIED:20250318T090319Z
UID:10000198-1744329600-1744415999@bkmv.ch
SUMMARY:Frühlingskonzert der Musikgesellschaft Brienzwiler
DESCRIPTION:Flyer – Frühlingskonzert \nGastsolist: Armin Bachmann\, Posaune \n 
URL:https://bkmv.ch/event/fruehlingskonzert-der-musikgesellschaft-brienzwiler/2025-04-11/
LOCATION:Mehrzweckhalle Brienzwiler
END:VEVENT
END:VCALENDAR