BEGIN:VCALENDAR
VERSION:2.0
PRODID:-//Bernischer Kantonal-Musikverband BKMV - ECPv6.15.15//NONSGML v1.0//EN
CALSCALE:GREGORIAN
METHOD:PUBLISH
X-WR-CALNAME:Bernischer Kantonal-Musikverband BKMV
X-ORIGINAL-URL:https://bkmv.ch
X-WR-CALDESC:Veranstaltungen im Bernischer Kantonal-Musikverband BKMV
REFRESH-INTERVAL;VALUE=DURATION:PT1H
X-Robots-Tag:noindex
X-PUBLISHED-TTL:PT1H
BEGIN:VTIMEZONE
TZID:Europe/Zurich
BEGIN:DAYLIGHT
TZOFFSETFROM:+0100
TZOFFSETTO:+0200
TZNAME:CEST
DTSTART:20230326T010000
END:DAYLIGHT
BEGIN:STANDARD
TZOFFSETFROM:+0200
TZOFFSETTO:+0100
TZNAME:CET
DTSTART:20231029T010000
END:STANDARD
BEGIN:DAYLIGHT
TZOFFSETFROM:+0100
TZOFFSETTO:+0200
TZNAME:CEST
DTSTART:20240331T010000
END:DAYLIGHT
BEGIN:STANDARD
TZOFFSETFROM:+0200
TZOFFSETTO:+0100
TZNAME:CET
DTSTART:20241027T010000
END:STANDARD
BEGIN:DAYLIGHT
TZOFFSETFROM:+0100
TZOFFSETTO:+0200
TZNAME:CEST
DTSTART:20250330T010000
END:DAYLIGHT
BEGIN:STANDARD
TZOFFSETFROM:+0200
TZOFFSETTO:+0100
TZNAME:CET
DTSTART:20251026T010000
END:STANDARD
END:VTIMEZONE
BEGIN:VEVENT
DTSTART;VALUE=DATE:20241109
DTEND;VALUE=DATE:20241110
DTSTAMP:20260423T000729
CREATED:20241017T143812Z
LAST-MODIFIED:20241017T143812Z
UID:10000081-1731110400-1731196799@bkmv.ch
SUMMARY:Jahreskonzert Musikgesellschaft Rüderswil
DESCRIPTION:Flyer – Jahreskonzert MG Rüderswil
URL:https://bkmv.ch/event/jahreskonzert-musikgesellschaft-ruederswil-2/
LOCATION:Kirche Rüderswil
END:VEVENT
BEGIN:VEVENT
DTSTART;VALUE=DATE:20241108
DTEND;VALUE=DATE:20241109
DTSTAMP:20260423T000729
CREATED:20241017T143719Z
LAST-MODIFIED:20241017T143719Z
UID:10000080-1731024000-1731110399@bkmv.ch
SUMMARY:Jahreskonzert Musikgesellschaft Rüderswil
DESCRIPTION:Flyer – Jahreskonzert MG Rüderswil
URL:https://bkmv.ch/event/jahreskonzert-musikgesellschaft-ruederswil/
LOCATION:Kirche Rüderswil
END:VEVENT
BEGIN:VEVENT
DTSTART;VALUE=DATE:20241103
DTEND;VALUE=DATE:20241104
DTSTAMP:20260423T000729
CREATED:20241002T053639Z
LAST-MODIFIED:20241002T053639Z
UID:10000058-1730592000-1730678399@bkmv.ch
SUMMARY:Lottomatch Musikgesellschaft Krattigen
DESCRIPTION:Sonntag 14.00-19.00 Uhr
URL:https://bkmv.ch/event/lottomatch-musikgesellschaft-krattigen-2/
LOCATION:Turnhalle Krattigen
END:VEVENT
BEGIN:VEVENT
DTSTART;VALUE=DATE:20241103
DTEND;VALUE=DATE:20241104
DTSTAMP:20260423T000729
CREATED:20240702T082038Z
LAST-MODIFIED:20240702T085215Z
UID:10000021-1730592000-1730678399@bkmv.ch
SUMMARY:Lotto Musikgesellschaft Sumiswald
DESCRIPTION:
URL:https://bkmv.ch/event/lotto-musikgesellschaft-sumiswald-2/
LOCATION:Gasthof Kreuz Sumiswald\, Markgasse 9\, Sumiswald\, 3454
END:VEVENT
BEGIN:VEVENT
DTSTART;VALUE=DATE:20241102
DTEND;VALUE=DATE:20241103
DTSTAMP:20260423T000729
CREATED:20241024T113402Z
LAST-MODIFIED:20241024T113553Z
UID:10000085-1730505600-1730591999@bkmv.ch
SUMMARY:Social Media Workshop Solothurner Musikverband
DESCRIPTION:SOBV-Flyer_Social_Media_Workshops \nWie erstelle ich die besten Texte für den Musikverein?
URL:https://bkmv.ch/event/social-media-workshop-solothurner-musikverband/
LOCATION:Sportzentrum Zuchwil
END:VEVENT
BEGIN:VEVENT
DTSTART;VALUE=DATE:20241102
DTEND;VALUE=DATE:20241103
DTSTAMP:20260423T000729
CREATED:20241002T053545Z
LAST-MODIFIED:20241002T053545Z
UID:10000057-1730505600-1730591999@bkmv.ch
SUMMARY:Lottomatch Musikgesellschaft Krattigen
DESCRIPTION:Samstag 16.00- 22.00 Uhr
URL:https://bkmv.ch/event/lottomatch-musikgesellschaft-krattigen/
LOCATION:Turnhalle Krattigen
END:VEVENT
BEGIN:VEVENT
DTSTART;VALUE=DATE:20241102
DTEND;VALUE=DATE:20241103
DTSTAMP:20260423T000729
CREATED:20240702T081905Z
LAST-MODIFIED:20240702T082304Z
UID:10000020-1730505600-1730591999@bkmv.ch
SUMMARY:Lotto Musikgesellschaft Sumiswald
DESCRIPTION:
URL:https://bkmv.ch/event/lotto-musikgesellschaft-sumiswald/
LOCATION:Gasthof Kreuz Sumiswald\, Markgasse 9\, Sumiswald\, 3454
END:VEVENT
BEGIN:VEVENT
DTSTART;VALUE=DATE:20241101
DTEND;VALUE=DATE:20241102
DTSTAMP:20260423T000729
CREATED:20241009T120336Z
LAST-MODIFIED:20241009T120505Z
UID:10000072-1730419200-1730505599@bkmv.ch
SUMMARY:Raclette-Abend Spielgemeinschaft HIP/MGUS
DESCRIPTION:18.00h – 23.00h \nDie Spielgemeinschaft HIP/MGUS lädt ein zum feinen Raclette-Schmaus und feinen Kuchen zum Dessert.\nDie Musikantinnen und Musikanten freuen sich auf Ihren Besuch!
URL:https://bkmv.ch/event/raclette-abend-spielgemeinschaft-hip-mgus/
LOCATION:Lee-Saal in Schönbühl (Aula im Lee-Schulhaus)
END:VEVENT
BEGIN:VEVENT
DTSTART;VALUE=DATE:20241027
DTEND;VALUE=DATE:20241028
DTSTAMP:20260423T000729
CREATED:20241002T050856Z
LAST-MODIFIED:20241002T050856Z
UID:10000053-1729987200-1730073599@bkmv.ch
SUMMARY:Pyramidenlotto Musikverein Interlaken Unterseen & Jugendmusik Unterseen
DESCRIPTION:Flyer Pyramidenlotto
URL:https://bkmv.ch/event/pyramidenlotto-musikverein-interlaken-unterseen-jugendmusik-unterseen/
LOCATION:Aula Oberstufe Unterseen
END:VEVENT
BEGIN:VEVENT
DTSTART;VALUE=DATE:20241027
DTEND;VALUE=DATE:20241028
DTSTAMP:20260423T000729
CREATED:20241002T050448Z
LAST-MODIFIED:20241002T050448Z
UID:10000052-1729987200-1730073599@bkmv.ch
SUMMARY:Lottomatch Musikgesellschaft Farnern
DESCRIPTION:
URL:https://bkmv.ch/event/lottomatch-musikgesellschaft-farnern-2/
LOCATION:Turnhalle Rumisberg
END:VEVENT
BEGIN:VEVENT
DTSTART;VALUE=DATE:20241026
DTEND;VALUE=DATE:20241027
DTSTAMP:20260423T000729
CREATED:20241002T050204Z
LAST-MODIFIED:20241002T050204Z
UID:10000051-1729900800-1729987199@bkmv.ch
SUMMARY:Lottomatch Musikgesellschaft Farnern
DESCRIPTION:
URL:https://bkmv.ch/event/lottomatch-musikgesellschaft-farnern/
LOCATION:Turnhalle Rumisberg
END:VEVENT
BEGIN:VEVENT
DTSTART;VALUE=DATE:20241026
DTEND;VALUE=DATE:20241027
DTSTAMP:20260423T000729
CREATED:20241001T134316Z
LAST-MODIFIED:20241001T134505Z
UID:10000050-1729900800-1729987199@bkmv.ch
SUMMARY:Tag der offenen Tür - Haus der Musik Musikgesellschaft Aarwangen
DESCRIPTION:Flyer – Besichtigung des neuen Musiklokals der Musikgesellschaft Aarwangen \n  \n 
URL:https://bkmv.ch/event/tag-der-offenen-tuer-haus-der-musik-musikgesellschaft-aarwangen/
END:VEVENT
BEGIN:VEVENT
DTSTART;VALUE=DATE:20241026
DTEND;VALUE=DATE:20241027
DTSTAMP:20260423T000729
CREATED:20240910T072828Z
LAST-MODIFIED:20241002T051034Z
UID:10000048-1729900800-1729987199@bkmv.ch
SUMMARY:Pyramidenlotto Musikverein Interlaken Unterseen & Jugendmusik Unterseen
DESCRIPTION:Flyer Pyramidenlotto
URL:https://bkmv.ch/event/pyramidenlotto-mv-interlaken-unterseen/
LOCATION:Aula Oberstufe Unterseen
END:VEVENT
BEGIN:VEVENT
DTSTART;VALUE=DATE:20241025
DTEND;VALUE=DATE:20241026
DTSTAMP:20260423T000729
CREATED:20240816T084910Z
LAST-MODIFIED:20240816T085239Z
UID:10000044-1729814400-1729900799@bkmv.ch
SUMMARY:Raclette-Abend Musikgesellschaft Münchenbuchsee
DESCRIPTION:
URL:https://bkmv.ch/event/raclette-abend-musikgesellschaft-muenchenbuchsee/
LOCATION:Kirchgemeindehaus\, Münchenbuchsee
END:VEVENT
BEGIN:VEVENT
DTSTART;VALUE=DATE:20241020
DTEND;VALUE=DATE:20241021
DTSTAMP:20260423T000729
CREATED:20241009T112359Z
LAST-MODIFIED:20241009T112937Z
UID:10000069-1729382400-1729468799@bkmv.ch
SUMMARY:Herbstkonzert Musikgesellschaft Allmendingen/Thun
DESCRIPTION:Flyer Herbstkonzert 2024
URL:https://bkmv.ch/event/herbstkonzert-musikgesellschaft-allmendingen-thun/
LOCATION:Mehrzweckhalle Allmendingen b. Thun
END:VEVENT
BEGIN:VEVENT
DTSTART;VALUE=DATE:20241019
DTEND;VALUE=DATE:20241020
DTSTAMP:20260423T000729
CREATED:20241009T113617Z
LAST-MODIFIED:20241009T113941Z
UID:10000070-1729296000-1729382399@bkmv.ch
SUMMARY:UNBUNT oder Grau ...liches aus dem Farbenland! Musikgesellschaft Habstetten
DESCRIPTION:Ein Märchen voller Musik und Botschaft\nTaucht ein in ein musikalisches Märchen\, das über die Metapher des Farbenkreises für ein faires\, friedvolles und tolerantes Zusammenleben wirbt. Lasst euch von der bunten Geschichte verzaubern und genießt dabei die zauberhafte Musik\, die von unseren jungen Talenten und uns aufgeführt wird. \nAls besonderes Highlight wird das Musical durch zwei Werke aus den Filmklassikern Harry Potter und Fluch der Karibik umrahmt – ein Genuss für Gross und Klein! \n​Mitwirkende: \n\nPrimarschule Bolligen: Klassen 5b\, 5c\, 4a\, 3a\, 2a\, 2b\, 2c und 2d\nKinderchor der Musikschule Bolligen\nMusikgesellschaft Habstetten\n\n​Veranstaltungsdetails:\n📅 Datum: 19. Oktober 2024\n📍 Ort: Rudolf Steiner Schule Ittigen\n⏰ Türöffnung: 16:30 Uhr\n🎭 Musicalbeginn: 17:00 Uhr
URL:https://bkmv.ch/event/unbunt-oder-grau-liches-aus-dem-farbenland-musikgesellschaft-habstetten/
LOCATION:Rudolf Steiner Schule\, Ittigen
END:VEVENT
BEGIN:VEVENT
DTSTART;VALUE=DATE:20241018
DTEND;VALUE=DATE:20241019
DTSTAMP:20260423T000729
CREATED:20241002T060429Z
LAST-MODIFIED:20241002T060851Z
UID:10000059-1729209600-1729295999@bkmv.ch
SUMMARY:Kirchenkonzert Musikgesellschaft Röthenbach
DESCRIPTION:
URL:https://bkmv.ch/event/kirchenkonzert-musikgesellschaft-roethenbach/
LOCATION:Kirche Röthenbach
END:VEVENT
BEGIN:VEVENT
DTSTART;VALUE=DATE:20241012
DTEND;VALUE=DATE:20241013
DTSTAMP:20260423T000729
CREATED:20241002T052204Z
LAST-MODIFIED:20241002T053927Z
UID:10000055-1728691200-1728777599@bkmv.ch
SUMMARY:Herbstfest Musikgesellschaft Utzigen
DESCRIPTION:Herbstfest der MG Utzigen\nSamstag 12.10.2024\nRaclette à Discretion CHF 25.00\nStändli MGU\, Bar\, Unterhaltung Örgelifäger
URL:https://bkmv.ch/event/herbstfest-musikgesellschaft-utzigen-2/
LOCATION:Turnhalle Utzigen
END:VEVENT
BEGIN:VEVENT
DTSTART;VALUE=DATE:20241012
DTEND;VALUE=DATE:20241013
DTSTAMP:20260423T000729
CREATED:20240425T060621Z
LAST-MODIFIED:20240816T084143Z
UID:10000015-1728691200-1728777599@bkmv.ch
SUMMARY:Spaghettiplausch Musikgesellschaft Thörigen
DESCRIPTION:
URL:https://bkmv.ch/event/spaghettiplausch-musikgesellschaft-thoerigen/
LOCATION:Mehrzweckhalle Thörigen
END:VEVENT
BEGIN:VEVENT
DTSTART;VALUE=DATE:20241011
DTEND;VALUE=DATE:20241012
DTSTAMP:20260423T000729
CREATED:20241002T052036Z
LAST-MODIFIED:20241002T052036Z
UID:10000054-1728604800-1728691199@bkmv.ch
SUMMARY:Herbstfest Musikgesellschaft Utzigen
DESCRIPTION:Herbstfest der MG Utzigen\nFreitag 11.10.24\nFürabebier\, Grill\, Getränke und Bar
URL:https://bkmv.ch/event/herbstfest-musikgesellschaft-utzigen/
LOCATION:Turnhalle Utzigen
END:VEVENT
BEGIN:VEVENT
DTSTART;TZID=Europe/Zurich:20241001T080000
DTEND;TZID=Europe/Zurich:20241001T170000
DTSTAMP:20260423T000729
CREATED:20240920T094103Z
LAST-MODIFIED:20240920T094103Z
UID:10000049-1727769600-1727802000@bkmv.ch
SUMMARY:Brass Projekt Bärn mit zwei Konzerten - Musikkorps der Heilsarmee Bern
DESCRIPTION:Flyer – Brass Projekt Bärn \nSpielst du ein Blasinstrument oder Perkussion und möchtest in einem Projekt der Heilsarmee\nmitmusizieren? Die Proben ﬁnden ab 16. Oktober mittwochs in Bern statt\, 19.30 – 21.30Uhr. \nEin Probewochenende im Schwarzwald am 2./3. November. Krönender Abschluss des Projekts sind die beiden\nKonzerte am 7./8. Dezember in Bern und Umgebung. \n 
URL:https://bkmv.ch/event/brass-projekt-baern-mit-zwei-konzerten-musikkorps-der-heilsarmee-bern/
END:VEVENT
BEGIN:VEVENT
DTSTART;VALUE=DATE:20240921
DTEND;VALUE=DATE:20240922
DTSTAMP:20260423T000729
CREATED:20240702T081135Z
LAST-MODIFIED:20240702T081301Z
UID:10000019-1726876800-1726963199@bkmv.ch
SUMMARY:175-Jahr-Jubiläum Musikgesellschaft Sumiswald
DESCRIPTION:16.00 Uhr Vorträge Musikschule |\n17.00 Uhr Konzert Jugendmusik |\n20.00 Uhr Jubiläumsanlass Musikgesellschaft Sumiswald |\n22.00 Uhr Unterhaltung mit Blechapella |\nFestwirtschaft & Bar
URL:https://bkmv.ch/event/175-jahr-jubilaeum-musikgesellschaft-sumiswald/
LOCATION:Aula\, Sumiswald
END:VEVENT
BEGIN:VEVENT
DTSTART;VALUE=DATE:20240915
DTEND;VALUE=DATE:20240916
DTSTAMP:20260423T000729
CREATED:20240816T083439Z
LAST-MODIFIED:20240816T083508Z
UID:10000043-1726358400-1726444799@bkmv.ch
SUMMARY:Konzert 60+ Musikgesellschaft Mühlethurnen
DESCRIPTION:Flyer Konzert 60+
URL:https://bkmv.ch/event/konzert-60-musikgesellschaft-muehlethurnen/
LOCATION:Gemeindesaal Kaufdorf
END:VEVENT
BEGIN:VEVENT
DTSTART;VALUE=DATE:20240907
DTEND;VALUE=DATE:20240908
DTSTAMP:20260423T000729
CREATED:20240813T090020Z
LAST-MODIFIED:20240813T090020Z
UID:10000041-1725667200-1725753599@bkmv.ch
SUMMARY:Slowup-Party Musikgesellschaft Rohrbach
DESCRIPTION:Flyer – Musikgesellschaft Rohrbach
URL:https://bkmv.ch/event/slowup-party-musikgesellschaft-rohrbach/
LOCATION:Rabiplatz\, Rohrbach
END:VEVENT
BEGIN:VEVENT
DTSTART;VALUE=DATE:20240907
DTEND;VALUE=DATE:20240908
DTSTAMP:20260423T000729
CREATED:20240810T082347Z
LAST-MODIFIED:20240810T083013Z
UID:10000040-1725667200-1725753599@bkmv.ch
SUMMARY:Unterhaltungskonzert Musikgesellschaft Riggisberg
DESCRIPTION:Flyer  \n| Festwirtschaft ab 19.00 Uhr
URL:https://bkmv.ch/event/unterhaltungskonzert-musikgesellschaft-riggisberg/
LOCATION:Turnhalle Aebnit Riggisberg
END:VEVENT
BEGIN:VEVENT
DTSTART;VALUE=DATE:20240907
DTEND;VALUE=DATE:20240908
DTSTAMP:20260423T000729
CREATED:20240730T061051Z
LAST-MODIFIED:20240816T083904Z
UID:10000036-1725667200-1725753599@bkmv.ch
SUMMARY:Pizza-Day Musikgesellschaft Frutigen
DESCRIPTION:
URL:https://bkmv.ch/event/pizza-day-musikgesellschaft-frutigen/
LOCATION:Simplongärtli
END:VEVENT
BEGIN:VEVENT
DTSTART;VALUE=DATE:20240906
DTEND;VALUE=DATE:20240909
DTSTAMP:20260423T000729
CREATED:20240702T090714Z
LAST-MODIFIED:20240702T090807Z
UID:10000030-1725580800-1725839999@bkmv.ch
SUMMARY:200 Jahre Musikgesellschaft Wynau
DESCRIPTION:Neuuniformierung zum 200 jährigen Jubiläum der Musikgesellschaft Wynau | \nOberaargauischer Jugendmusiktag
URL:https://bkmv.ch/event/200-jahre-musikgesellschaft-wynau/
LOCATION:Wynau
END:VEVENT
BEGIN:VEVENT
DTSTART;VALUE=DATE:20240831
DTEND;VALUE=DATE:20240901
DTSTAMP:20260423T000729
CREATED:20240702T152956Z
LAST-MODIFIED:20240702T153432Z
UID:10000031-1725062400-1725148799@bkmv.ch
SUMMARY:Open Air Konzert Brass Band Emmental
DESCRIPTION:Flyer – Fremdplatziert
URL:https://bkmv.ch/event/fremdplatziert-brass-band-emmental/
LOCATION:Lueg-Arena\, Kaltacker
END:VEVENT
BEGIN:VEVENT
DTSTART;VALUE=DATE:20240816
DTEND;VALUE=DATE:20240817
DTSTAMP:20260423T000729
CREATED:20240702T084429Z
LAST-MODIFIED:20240702T084532Z
UID:10000026-1723766400-1723852799@bkmv.ch
SUMMARY:Platzkonzert Musikverein Interlaken Unterseen
DESCRIPTION:
URL:https://bkmv.ch/event/platzkonzert-musikverein-interlaken-unterseen/
LOCATION:Restaurant 3a Interlaken
END:VEVENT
BEGIN:VEVENT
DTSTART;VALUE=DATE:20240809
DTEND;VALUE=DATE:20240810
DTSTAMP:20260423T000729
CREATED:20240702T084813Z
LAST-MODIFIED:20240702T084813Z
UID:10000027-1723161600-1723247999@bkmv.ch
SUMMARY:Platzkonzert Musikverein Interlaken Unterseen
DESCRIPTION:
URL:https://bkmv.ch/event/platzkonzert-musikverein-interlaken-unterseen-2/
LOCATION:Vorplatz Migros Interlaken
END:VEVENT
END:VCALENDAR