BEGIN:VCALENDAR
VERSION:2.0
PRODID:-//Bernischer Kantonal-Musikverband BKMV - ECPv6.15.15//NONSGML v1.0//EN
CALSCALE:GREGORIAN
METHOD:PUBLISH
X-WR-CALNAME:Bernischer Kantonal-Musikverband BKMV
X-ORIGINAL-URL:https://bkmv.ch
X-WR-CALDESC:Veranstaltungen im Bernischer Kantonal-Musikverband BKMV
REFRESH-INTERVAL;VALUE=DURATION:PT1H
X-Robots-Tag:noindex
X-PUBLISHED-TTL:PT1H
BEGIN:VTIMEZONE
TZID:Europe/Zurich
BEGIN:DAYLIGHT
TZOFFSETFROM:+0100
TZOFFSETTO:+0200
TZNAME:CEST
DTSTART:20230326T010000
END:DAYLIGHT
BEGIN:STANDARD
TZOFFSETFROM:+0200
TZOFFSETTO:+0100
TZNAME:CET
DTSTART:20231029T010000
END:STANDARD
BEGIN:DAYLIGHT
TZOFFSETFROM:+0100
TZOFFSETTO:+0200
TZNAME:CEST
DTSTART:20240331T010000
END:DAYLIGHT
BEGIN:STANDARD
TZOFFSETFROM:+0200
TZOFFSETTO:+0100
TZNAME:CET
DTSTART:20241027T010000
END:STANDARD
BEGIN:DAYLIGHT
TZOFFSETFROM:+0100
TZOFFSETTO:+0200
TZNAME:CEST
DTSTART:20250330T010000
END:DAYLIGHT
BEGIN:STANDARD
TZOFFSETFROM:+0200
TZOFFSETTO:+0100
TZNAME:CET
DTSTART:20251026T010000
END:STANDARD
END:VTIMEZONE
BEGIN:VEVENT
DTSTART;VALUE=DATE:20241215
DTEND;VALUE=DATE:20241216
DTSTAMP:20260421T062938
CREATED:20241024T090654Z
LAST-MODIFIED:20241024T090808Z
UID:10000083-1734220800-1734307199@bkmv.ch
SUMMARY:Adventskonzert Musikgesellschaft Adelboden
DESCRIPTION:Eintritt frei\, Kollekte
URL:https://bkmv.ch/event/adventskonzert-musikgesellschaft-adelboden-2/
LOCATION:Kirche Adelboden
END:VEVENT
BEGIN:VEVENT
DTSTART;VALUE=DATE:20241214
DTEND;VALUE=DATE:20241215
DTSTAMP:20260421T062938
CREATED:20241207T110151Z
LAST-MODIFIED:20241207T185028Z
UID:10000129-1734134400-1734220799@bkmv.ch
SUMMARY:Kirchenkonzert Musikgesellschaft Biglen
DESCRIPTION:Flyer \nGemeinschaftskonzert mit dem Jodlerklub Biglen
URL:https://bkmv.ch/event/kirchenkonzert-musikgesellschaft-biglen/
LOCATION:Kirche Biglen
END:VEVENT
BEGIN:VEVENT
DTSTART;VALUE=DATE:20241214
DTEND;VALUE=DATE:20241215
DTSTAMP:20260421T062938
CREATED:20241119T093439Z
LAST-MODIFIED:20241119T093850Z
UID:10000121-1734134400-1734220799@bkmv.ch
SUMMARY:Adventskonzert Musikgesellschaft Hasle-Rüegsau
DESCRIPTION:Flyer Adventskonzert
URL:https://bkmv.ch/event/adventskonzert-musikgesellschaft-hasle-rueegsau/
LOCATION:Kirche Rüegsau
END:VEVENT
BEGIN:VEVENT
DTSTART;VALUE=DATE:20241214
DTEND;VALUE=DATE:20241215
DTSTAMP:20260421T062938
CREATED:20240730T061636Z
LAST-MODIFIED:20240730T061636Z
UID:10000037-1734134400-1734220799@bkmv.ch
SUMMARY:Kirchenkonzert Musikgesellschaft Frutigen
DESCRIPTION:
URL:https://bkmv.ch/event/kirchenkonzert-musikgesellschaft-frutigen/
LOCATION:ref. Kirche Frutigen
END:VEVENT
BEGIN:VEVENT
DTSTART;VALUE=DATE:20241213
DTEND;VALUE=DATE:20241214
DTSTAMP:20260421T062938
CREATED:20241024T090645Z
LAST-MODIFIED:20241024T090812Z
UID:10000084-1734048000-1734134399@bkmv.ch
SUMMARY:Adventskonzert Musikgesellschaft Adelboden
DESCRIPTION:Eintritt frei\, Kollekte
URL:https://bkmv.ch/event/adventskonzert-musikgesellschaft-adelboden/
LOCATION:Kirche Adelboden
END:VEVENT
BEGIN:VEVENT
DTSTART;VALUE=DATE:20241211
DTEND;VALUE=DATE:20241212
DTSTAMP:20260421T062938
CREATED:20241106T092939Z
LAST-MODIFIED:20241106T092939Z
UID:10000094-1733875200-1733961599@bkmv.ch
SUMMARY:Adventskonzert Spielgemeinschaft Schwarzenburg-Niederscherli
DESCRIPTION:Adventskonzert: Ankommen – Ein Konzert über Engel und Zeit\n \nJürg Meienberg nimmt dich mit auf eine\nReise im Zug des Lebens und stimmt dich mit Gedanken\nzu Engeln und Zeit auf die Adventszeit ein. \nFlyer Adventskonzert \n 
URL:https://bkmv.ch/event/adventskonzert-spielgemeinschaft-schwarzenburg-niederscherli-4/
LOCATION:Kirche Niederscherli
END:VEVENT
BEGIN:VEVENT
DTSTART;VALUE=DATE:20241208
DTEND;VALUE=DATE:20241209
DTSTAMP:20260421T062938
CREATED:20241120T080310Z
LAST-MODIFIED:20241120T080310Z
UID:10000123-1733616000-1733702399@bkmv.ch
SUMMARY:Adventskonzert Musikgesellschaft Worben
DESCRIPTION:Flyer Adventskonzert
URL:https://bkmv.ch/event/adventskonzert-musikgesellschaft-worben/
LOCATION:Mehrzweckhalle Worben
END:VEVENT
BEGIN:VEVENT
DTSTART;VALUE=DATE:20241208
DTEND;VALUE=DATE:20241209
DTSTAMP:20260421T062938
CREATED:20241119T090808Z
LAST-MODIFIED:20241119T091517Z
UID:10000116-1733616000-1733702399@bkmv.ch
SUMMARY:Adventskonzert Jugendmusik Konolfingen und Piccolos
DESCRIPTION:Flyer Adventskonzert \nGratis Eintritt mit Kollekte
URL:https://bkmv.ch/event/adventskonzert-jugendmusik-konolfingen-und-den-piccolos/
LOCATION:Reformierte Kirche Konolfingen
END:VEVENT
BEGIN:VEVENT
DTSTART;VALUE=DATE:20241208
DTEND;VALUE=DATE:20241209
DTSTAMP:20260421T062938
CREATED:20241113T090712Z
LAST-MODIFIED:20241113T090740Z
UID:10000113-1733616000-1733702399@bkmv.ch
SUMMARY:Adventskonzert Musikgesellschaft Habstetten
DESCRIPTION:Flyer Adventskonzert
URL:https://bkmv.ch/event/adventskonzert-musikgesellschaft-habstetten/
LOCATION:Kirche Bolligen
END:VEVENT
BEGIN:VEVENT
DTSTART;VALUE=DATE:20241208
DTEND;VALUE=DATE:20241209
DTSTAMP:20260421T062938
CREATED:20241113T085439Z
LAST-MODIFIED:20241113T085541Z
UID:10000112-1733616000-1733702399@bkmv.ch
SUMMARY:Kirchenkonzert Musikgesellschaft Aarwangen
DESCRIPTION:Flyer Kirchenkonzert \num 14.00 Uhr und um 17.00 Uhr
URL:https://bkmv.ch/event/kirchenkonzert-musikgesellschaft-aarwangen-2/
LOCATION:Kirche Aarwangen
END:VEVENT
BEGIN:VEVENT
DTSTART;VALUE=DATE:20241208
DTEND;VALUE=DATE:20241209
DTSTAMP:20260421T062938
CREATED:20241109T125151Z
LAST-MODIFIED:20241109T130136Z
UID:10000108-1733616000-1733702399@bkmv.ch
SUMMARY:Konzert zum Advent Musikgesellschaft Eggiwil
DESCRIPTION:Flyer Konzert zum Advent
URL:https://bkmv.ch/event/konzert-zum-advent-musikgesellschaft-eggiwil/
END:VEVENT
BEGIN:VEVENT
DTSTART;VALUE=DATE:20241208
DTEND;VALUE=DATE:20241209
DTSTAMP:20260421T062938
CREATED:20241106T092836Z
LAST-MODIFIED:20241106T092836Z
UID:10000093-1733616000-1733702399@bkmv.ch
SUMMARY:Adventskonzert Spielgemeinschaft Schwarzenburg-Niederscherli
DESCRIPTION:Adventskonzert: Ankommen – Ein Konzert über Engel und Zeit\n \nJürg Meienberg nimmt dich mit auf eine\nReise im Zug des Lebens und stimmt dich mit Gedanken\nzu Engeln und Zeit auf die Adventszeit ein. \nFlyer Adventskonzert \n 
URL:https://bkmv.ch/event/adventskonzert-spielgemeinschaft-schwarzenburg-niederscherli-3/
LOCATION:Kirche Guggisberg
END:VEVENT
BEGIN:VEVENT
DTSTART;VALUE=DATE:20241208
DTEND;VALUE=DATE:20241209
DTSTAMP:20260421T062938
CREATED:20241017T140738Z
LAST-MODIFIED:20241017T140738Z
UID:10000079-1733616000-1733702399@bkmv.ch
SUMMARY:Lotto-Erlebnis Musikgesellschaft Frauenkappelen
DESCRIPTION:Flyer – Lotto-Erlebnis
URL:https://bkmv.ch/event/lotto-erlebnis-musikgesellschaft-frauenkappelen-2/
LOCATION:Mehrzweckanlage Zälgli\, Frauenkappelen
END:VEVENT
BEGIN:VEVENT
DTSTART;VALUE=DATE:20241208
DTEND;VALUE=DATE:20241209
DTSTAMP:20260421T062938
CREATED:20241009T115342Z
LAST-MODIFIED:20241009T115531Z
UID:10000071-1733616000-1733702399@bkmv.ch
SUMMARY:Adventskonzert Musikgesellschaft Rohrbach
DESCRIPTION:Flyer Adventskonzert Musikgesellschaft Rohrbach \nMitwirkung Männerchor Leimiswil \n 
URL:https://bkmv.ch/event/adventskonzert-musikgesellschaft-rohrbach/
LOCATION:Kirche Rohrbach
END:VEVENT
BEGIN:VEVENT
DTSTART;VALUE=DATE:20241208
DTEND;VALUE=DATE:20241209
DTSTAMP:20260421T062938
CREATED:20241003T062432Z
LAST-MODIFIED:20241005T110708Z
UID:10000066-1733616000-1733702399@bkmv.ch
SUMMARY:Lottomatch Musikgesellschaft Wilderswil
DESCRIPTION:Traditioneller Lottomatch – 14:00-18:00 Uhr
URL:https://bkmv.ch/event/lottomatch-musikgesellschaft-wilderswil/
LOCATION:Mehrzweckhalle Wilderswil
END:VEVENT
BEGIN:VEVENT
DTSTART;VALUE=DATE:20241208
DTEND;VALUE=DATE:20241209
DTSTAMP:20260421T062938
CREATED:20241002T053020Z
LAST-MODIFIED:20241002T053020Z
UID:10000056-1733616000-1733702399@bkmv.ch
SUMMARY:Adventskonzert Musikgesellschaft Krattigen
DESCRIPTION:Konzert der Musikgesellschaft Krattigen\, Juniorband Krattigen und den Bärgjodler Aeschiried
URL:https://bkmv.ch/event/adventskonzert-musikgesellschaft-krattigen/
LOCATION:Kirche Aeschi
END:VEVENT
BEGIN:VEVENT
DTSTART;VALUE=DATE:20241207
DTEND;VALUE=DATE:20241208
DTSTAMP:20260421T062938
CREATED:20241113T085250Z
LAST-MODIFIED:20241113T085250Z
UID:10000111-1733529600-1733615999@bkmv.ch
SUMMARY:Kirchenkonzert Musikgesellschaft Aarwangen
DESCRIPTION:Flyer Kirchenkonzert
URL:https://bkmv.ch/event/kirchenkonzert-musikgesellschaft-aarwangen/
LOCATION:Kirche Aarwangen
END:VEVENT
BEGIN:VEVENT
DTSTART;VALUE=DATE:20241207
DTEND;VALUE=DATE:20241208
DTSTAMP:20260421T062938
CREATED:20241107T162821Z
LAST-MODIFIED:20241107T162838Z
UID:10000101-1733529600-1733615999@bkmv.ch
SUMMARY:Kirchenkonzert Musikverein Erlenbach-Diemtigtal
DESCRIPTION:Flyer – Musikverein Erlenbach-Diemtigtal
URL:https://bkmv.ch/event/kirchenkonzert-musikverein-erlenbach-diemtigtal/
LOCATION:Kirche Erlenbach i.S.
END:VEVENT
BEGIN:VEVENT
DTSTART;VALUE=DATE:20241207
DTEND;VALUE=DATE:20241208
DTSTAMP:20260421T062938
CREATED:20241017T140529Z
LAST-MODIFIED:20241017T140529Z
UID:10000078-1733529600-1733615999@bkmv.ch
SUMMARY:Lotto-Erlebnis Musikgesellschaft Frauenkappelen
DESCRIPTION:Flyer – Lotto-Erlebnis
URL:https://bkmv.ch/event/lotto-erlebnis-musikgesellschaft-frauenkappelen/
LOCATION:Mehrzweckanlage Zälgli\, Frauenkappelen
END:VEVENT
BEGIN:VEVENT
DTSTART;VALUE=DATE:20241207
DTEND;VALUE=DATE:20241208
DTSTAMP:20260421T062938
CREATED:20241003T062554Z
LAST-MODIFIED:20241005T110806Z
UID:10000067-1733529600-1733615999@bkmv.ch
SUMMARY:Lottomatch Musikgesellschaft Wilderswil
DESCRIPTION:Traditioneller Lottomatch – 17:00-22:00 Uhr
URL:https://bkmv.ch/event/lottomatch-musikgesellschaft-wilderswil-2/
LOCATION:Mehrzweckhalle Wilderswil
END:VEVENT
BEGIN:VEVENT
DTSTART;VALUE=DATE:20241206
DTEND;VALUE=DATE:20241207
DTSTAMP:20260421T062938
CREATED:20241107T103808Z
LAST-MODIFIED:20241107T103808Z
UID:10000095-1733443200-1733529599@bkmv.ch
SUMMARY:Kirchenkonzert Musikgesellschaft Riggisberg
DESCRIPTION:Flyer Kirchenkonzert
URL:https://bkmv.ch/event/kirchenkonzert-musikgesellschaft-riggisberg/
LOCATION:Kirche Riggisberg
END:VEVENT
BEGIN:VEVENT
DTSTART;VALUE=DATE:20241204
DTEND;VALUE=DATE:20241205
DTSTAMP:20260421T062938
CREATED:20241106T092727Z
LAST-MODIFIED:20241106T092727Z
UID:10000092-1733270400-1733356799@bkmv.ch
SUMMARY:Adventskonzert Spielgemeinschaft Schwarzenburg-Niederscherli
DESCRIPTION:Adventskonzert: Ankommen – Ein Konzert über Engel und Zeit\n \nJürg Meienberg nimmt dich mit auf eine\nReise im Zug des Lebens und stimmt dich mit Gedanken\nzu Engeln und Zeit auf die Adventszeit ein. \nFlyer Adventskonzert \n 
URL:https://bkmv.ch/event/adventskonzert-spielgemeinschaft-schwarzenburg-niederscherli-2/
LOCATION:Kirche Wahlern
END:VEVENT
BEGIN:VEVENT
DTSTART;VALUE=DATE:20241203
DTEND;VALUE=DATE:20241204
DTSTAMP:20260421T062938
CREATED:20240702T083341Z
LAST-MODIFIED:20240702T083559Z
UID:10000024-1733184000-1733270399@bkmv.ch
SUMMARY:Weihnachtsmärit Musikgesellschaft Sumiswald
DESCRIPTION:
URL:https://bkmv.ch/event/weihnachtsmaerit-musikgesellschaft-sumiswald/
LOCATION:Sumiswald
END:VEVENT
BEGIN:VEVENT
DTSTART;VALUE=DATE:20241201
DTEND;VALUE=DATE:20241202
DTSTAMP:20260421T062938
CREATED:20241121T095505Z
LAST-MODIFIED:20241121T095505Z
UID:10000125-1733011200-1733097599@bkmv.ch
SUMMARY:Kirchenkonzert Musikgesellschaft Madiswil
DESCRIPTION:Konzertbeginn 20.00 Uhr
URL:https://bkmv.ch/event/kirchenkonzert-musikgesellschaft-madiswil/
LOCATION:Kirche Madiswil
END:VEVENT
BEGIN:VEVENT
DTSTART;VALUE=DATE:20241201
DTEND;VALUE=DATE:20241202
DTSTAMP:20260421T062938
CREATED:20241121T095049Z
LAST-MODIFIED:20241121T095049Z
UID:10000124-1733011200-1733097599@bkmv.ch
SUMMARY:Winterkonzert Musikgesellschaft Rubigen
DESCRIPTION:Konzertbeginn 16.00 Uhr
URL:https://bkmv.ch/event/winterkonzert-musikgesellschaft-rubigen/
LOCATION:Aula\, Schule Rubigen
END:VEVENT
BEGIN:VEVENT
DTSTART;VALUE=DATE:20241201
DTEND;VALUE=DATE:20241202
DTSTAMP:20260421T062938
CREATED:20241109T132333Z
LAST-MODIFIED:20241109T132333Z
UID:10000110-1733011200-1733097599@bkmv.ch
SUMMARY:Lotto Musikgesellschaft Konolfingen
DESCRIPTION:Flyer Lotto \nWie bereits letztes Jahr findet unser Musig-Lotto im Kirchgemeindehaus Konolfingen statt. Getränke werden von uns serviert. Zudem gibt es Schweinswürstli\, Sandwichs und Nussgipfel.
URL:https://bkmv.ch/event/lotto-musikgesellschaft-konolfingen-2/
LOCATION:Kirchgemeindehaus Konolfingen
END:VEVENT
BEGIN:VEVENT
DTSTART;VALUE=DATE:20241201
DTEND;VALUE=DATE:20241202
DTSTAMP:20260421T062938
CREATED:20241108T095337Z
LAST-MODIFIED:20241108T095337Z
UID:10000106-1733011200-1733097599@bkmv.ch
SUMMARY:Konzert im Advent Musikgesellschaft Schüpbach
DESCRIPTION:Flyer Konzert im Advent
URL:https://bkmv.ch/event/konzert-im-advent-musikgesellschaft-schuepbach/
LOCATION:Kirche Signau
END:VEVENT
BEGIN:VEVENT
DTSTART;VALUE=DATE:20241201
DTEND;VALUE=DATE:20241202
DTSTAMP:20260421T062938
CREATED:20241108T081622Z
LAST-MODIFIED:20241108T081937Z
UID:10000104-1733011200-1733097599@bkmv.ch
SUMMARY:Konzert zum Advent Musikgesellschaft Allmendingen/Thun
DESCRIPTION:Flyer Adventskonzert
URL:https://bkmv.ch/event/lottomatch-musikgesellschaft-allmendingen-thun-3/
LOCATION:Mehrzweckhalle  Allmendingen-Thun
END:VEVENT
BEGIN:VEVENT
DTSTART;VALUE=DATE:20241201
DTEND;VALUE=DATE:20241202
DTSTAMP:20260421T062938
CREATED:20241103T155108Z
LAST-MODIFIED:20241103T155108Z
UID:10000090-1733011200-1733097599@bkmv.ch
SUMMARY:Adventskonzert Musikgesellschaft Zimmerwald-Niedermuhlern
DESCRIPTION:Flyer Adventskonzert
URL:https://bkmv.ch/event/adventskonzert-musikgesellschaft-zimmerwald-niedermuhlern-2/
LOCATION:Kirche\, 3086 Zimmerwald
END:VEVENT
BEGIN:VEVENT
DTSTART;VALUE=DATE:20241201
DTEND;VALUE=DATE:20241202
DTSTAMP:20260421T062938
CREATED:20241017T140114Z
LAST-MODIFIED:20241017T140114Z
UID:10000077-1733011200-1733097599@bkmv.ch
SUMMARY:Konzert im Advent Musikgesellschaft Frauenkappelen
DESCRIPTION:Flyer – Konzert im Advent
URL:https://bkmv.ch/event/konzert-im-advent-musikgesellschaft-frauenkappelen/
LOCATION:Mehrzweckanlage Zälgli\, Frauenkappelen
END:VEVENT
END:VCALENDAR