BEGIN:VCALENDAR
VERSION:2.0
PRODID:-//Bernischer Kantonal-Musikverband BKMV - ECPv6.15.15//NONSGML v1.0//EN
CALSCALE:GREGORIAN
METHOD:PUBLISH
X-ORIGINAL-URL:https://bkmv.ch
X-WR-CALDESC:Veranstaltungen im Bernischer Kantonal-Musikverband BKMV
REFRESH-INTERVAL;VALUE=DURATION:PT1H
X-Robots-Tag:noindex
X-PUBLISHED-TTL:PT1H
BEGIN:VTIMEZONE
TZID:Europe/Zurich
BEGIN:DAYLIGHT
TZOFFSETFROM:+0100
TZOFFSETTO:+0200
TZNAME:CEST
DTSTART:20240331T010000
END:DAYLIGHT
BEGIN:STANDARD
TZOFFSETFROM:+0200
TZOFFSETTO:+0100
TZNAME:CET
DTSTART:20241027T010000
END:STANDARD
BEGIN:DAYLIGHT
TZOFFSETFROM:+0100
TZOFFSETTO:+0200
TZNAME:CEST
DTSTART:20250330T010000
END:DAYLIGHT
BEGIN:STANDARD
TZOFFSETFROM:+0200
TZOFFSETTO:+0100
TZNAME:CET
DTSTART:20251026T010000
END:STANDARD
BEGIN:DAYLIGHT
TZOFFSETFROM:+0100
TZOFFSETTO:+0200
TZNAME:CEST
DTSTART:20260329T010000
END:DAYLIGHT
BEGIN:STANDARD
TZOFFSETFROM:+0200
TZOFFSETTO:+0100
TZNAME:CET
DTSTART:20261025T010000
END:STANDARD
END:VTIMEZONE
BEGIN:VEVENT
DTSTART;VALUE=DATE:20251109
DTEND;VALUE=DATE:20251110
DTSTAMP:20260419T231034
CREATED:20250805T055856Z
LAST-MODIFIED:20250805T064344Z
UID:10000816-1762646400-1762732799@bkmv.ch
SUMMARY:Lotto der Musikgesellschaft Adelboden
DESCRIPTION:08.11.2025 – 14:00 Uhr und 20:30 Uhr\n09.11.2025 – 14:00 Uhr und 20:00 Uhr \nLotto startet jeweils mit einem Gratisgang.
URL:https://bkmv.ch/event/lotto-der-musikgesellschaft-adelboden/2025-11-09/
LOCATION:Hotel Adler\, Dorfstrasse 19\, Adelboden
END:VEVENT
BEGIN:VEVENT
DTSTART;VALUE=DATE:20251109
DTEND;VALUE=DATE:20251110
DTSTAMP:20260419T231034
CREATED:20250918T124609Z
LAST-MODIFIED:20250918T124847Z
UID:10000845-1762646400-1762732799@bkmv.ch
SUMMARY:WINDS AND VOICES - Wenn Orchesterklang auf Gospelgroove trifft!
DESCRIPTION:Flyer – WINDS AND VOICES – Wenn Orchesterklang auf Gospelgroove trifft! \nMusikgesellschaft Bern-Bümpliz & Gospelchor The Moor Train Fellows
URL:https://bkmv.ch/event/winds-and-voices-wenn-orchesterklang-auf-gospelgroove-trifft/
LOCATION:Deutsche Kirche\, Deutsche Kirchgasse 22\, 3280 Murten
END:VEVENT
BEGIN:VEVENT
DTSTART;VALUE=DATE:20251109
DTEND;VALUE=DATE:20251110
DTSTAMP:20260419T231034
CREATED:20251002T053846Z
LAST-MODIFIED:20251002T054026Z
UID:10001434-1762646400-1762732799@bkmv.ch
SUMMARY:Lotto der Musikgesellschaft Allmendingen/Thun
DESCRIPTION:Flyer – Lotto \nDer 08. und 09. November 2025 steht ganz im Zeichen des Grosslottos der MGA.\nJeweils ab 14.00 h wird wieder auf die ganze Karte gespielt\, bis der glückliche Gewinner oder die Gewinnerin «Karton» rufen kann und die freundlichen Helfer:innen der MGA losspurten\, um den Gewinn zu sichern. \nLassen Sie sich von einer grossen Auswahl an Preisen und Gewinnen überraschen und besuchen Sie uns am ersten Wochenende im November in der Mehrzweckhalle Allmendingen. Wir freuen uns auf Sie.
URL:https://bkmv.ch/event/lotto-der-musikgesellschaft-allmendingen-thun/2025-11-09/
LOCATION:Mehrzweckhalle Allmendingen b. Thun
END:VEVENT
BEGIN:VEVENT
DTSTART;VALUE=DATE:20251109
DTEND;VALUE=DATE:20251110
DTSTAMP:20260419T231034
CREATED:20251002T055023Z
LAST-MODIFIED:20251002T055346Z
UID:10001436-1762646400-1762732799@bkmv.ch
SUMMARY:Familienkonzert der Musikgesellschaft Mühlethurnen
DESCRIPTION:Flyer – Familienkonzert \n«Klang der Urzeit – Bronto sucht die Melodie»
URL:https://bkmv.ch/event/familienkonzert-der-musikgesellschaft-muehlethurnen/
LOCATION:Kirchgemeindehaus Kirchenthurnen
END:VEVENT
END:VCALENDAR