BEGIN:VCALENDAR
VERSION:2.0
PRODID:-//Bernischer Kantonal-Musikverband BKMV - ECPv6.15.15//NONSGML v1.0//EN
CALSCALE:GREGORIAN
METHOD:PUBLISH
X-ORIGINAL-URL:https://bkmv.ch
X-WR-CALDESC:Veranstaltungen im Bernischer Kantonal-Musikverband BKMV
REFRESH-INTERVAL;VALUE=DURATION:PT1H
X-Robots-Tag:noindex
X-PUBLISHED-TTL:PT1H
BEGIN:VTIMEZONE
TZID:Europe/Zurich
BEGIN:DAYLIGHT
TZOFFSETFROM:+0100
TZOFFSETTO:+0200
TZNAME:CEST
DTSTART:20240331T010000
END:DAYLIGHT
BEGIN:STANDARD
TZOFFSETFROM:+0200
TZOFFSETTO:+0100
TZNAME:CET
DTSTART:20241027T010000
END:STANDARD
BEGIN:DAYLIGHT
TZOFFSETFROM:+0100
TZOFFSETTO:+0200
TZNAME:CEST
DTSTART:20250330T010000
END:DAYLIGHT
BEGIN:STANDARD
TZOFFSETFROM:+0200
TZOFFSETTO:+0100
TZNAME:CET
DTSTART:20251026T010000
END:STANDARD
BEGIN:DAYLIGHT
TZOFFSETFROM:+0100
TZOFFSETTO:+0200
TZNAME:CEST
DTSTART:20260329T010000
END:DAYLIGHT
BEGIN:STANDARD
TZOFFSETFROM:+0200
TZOFFSETTO:+0100
TZNAME:CET
DTSTART:20261025T010000
END:STANDARD
END:VTIMEZONE
BEGIN:VEVENT
DTSTART;VALUE=DATE:20251102
DTEND;VALUE=DATE:20251103
DTSTAMP:20260419T165833
CREATED:20241229T194919Z
LAST-MODIFIED:20241229T195110Z
UID:10000144-1762041600-1762127999@bkmv.ch
SUMMARY:Lotto der Musikgesellschaft Sumiswald
DESCRIPTION:Lotto der MG Sumiswald\nim Gasthof Kreuz Sumiswald \nab 15.00 Uhr bis ca. 18.30 Uhr
URL:https://bkmv.ch/event/lotto-der-musikgesellschaft-sumiswald/
LOCATION:Gasthof Kreuz Sumiswald\, Markgasse 9\, Sumiswald\, 3454
END:VEVENT
BEGIN:VEVENT
DTSTART;VALUE=DATE:20251102
DTEND;VALUE=DATE:20251103
DTSTAMP:20260419T165833
CREATED:20250917T135749Z
LAST-MODIFIED:20250917T135749Z
UID:10000841-1762041600-1762127999@bkmv.ch
SUMMARY:Lotto der Musikgesellschaft Krattigen
DESCRIPTION:14.00 Uhr bis 19.00 Uhr
URL:https://bkmv.ch/event/lotto-der-musikgesellschaft-krattigen-2/
LOCATION:Turnhalle 3704 Krattigen
END:VEVENT
BEGIN:VEVENT
DTSTART;VALUE=DATE:20251102
DTEND;VALUE=DATE:20251103
DTSTAMP:20260419T165833
CREATED:20251015T072935Z
LAST-MODIFIED:20251015T073753Z
UID:10001446-1762041600-1762127999@bkmv.ch
SUMMARY:Herbstkonzert der Musikgesellschaft Grasswil
DESCRIPTION:Flyer-Herbstkonzert MG Grasswil \nGastformationen:\nNachwuchsformation MixTrix und Jodlerklub Zytröseli Derendingen
URL:https://bkmv.ch/event/herbstkonzert-der-musikgesellschaft-grasswil/
LOCATION:Kirche Seeberg
END:VEVENT
END:VCALENDAR