BEGIN:VCALENDAR
VERSION:2.0
PRODID:-//Bernischer Kantonal-Musikverband BKMV - ECPv6.15.15//NONSGML v1.0//EN
CALSCALE:GREGORIAN
METHOD:PUBLISH
X-ORIGINAL-URL:https://bkmv.ch
X-WR-CALDESC:Veranstaltungen im Bernischer Kantonal-Musikverband BKMV
REFRESH-INTERVAL;VALUE=DURATION:PT1H
X-Robots-Tag:noindex
X-PUBLISHED-TTL:PT1H
BEGIN:VTIMEZONE
TZID:Europe/Zurich
BEGIN:DAYLIGHT
TZOFFSETFROM:+0100
TZOFFSETTO:+0200
TZNAME:CEST
DTSTART:20240331T010000
END:DAYLIGHT
BEGIN:STANDARD
TZOFFSETFROM:+0200
TZOFFSETTO:+0100
TZNAME:CET
DTSTART:20241027T010000
END:STANDARD
BEGIN:DAYLIGHT
TZOFFSETFROM:+0100
TZOFFSETTO:+0200
TZNAME:CEST
DTSTART:20250330T010000
END:DAYLIGHT
BEGIN:STANDARD
TZOFFSETFROM:+0200
TZOFFSETTO:+0100
TZNAME:CET
DTSTART:20251026T010000
END:STANDARD
BEGIN:DAYLIGHT
TZOFFSETFROM:+0100
TZOFFSETTO:+0200
TZNAME:CEST
DTSTART:20260329T010000
END:DAYLIGHT
BEGIN:STANDARD
TZOFFSETFROM:+0200
TZOFFSETTO:+0100
TZNAME:CET
DTSTART:20261025T010000
END:STANDARD
END:VTIMEZONE
BEGIN:VEVENT
DTSTART;VALUE=DATE:20251018
DTEND;VALUE=DATE:20251019
DTSTAMP:20260419T135559
CREATED:20250822T083740Z
LAST-MODIFIED:20250930T102802Z
UID:10000818-1760745600-1760831999@bkmv.ch
SUMMARY:BKMV - Workshop "Effiziente Probenarbeit im Blasorchester"
DESCRIPTION:Flyer Workshop – Effiziente Probenarbeit im Blasorchester \nAnrede *HerrFrauVorname *Name *Adresse *Stadt *PLZ *MusikvereinTelefon *E-Mail *Anregungen und Fragen0 / 180 Bitte bestätigen *Die Kosten für den Workshop (30 Franken) werden vorgängig elektronisch in Rechnung gestellt. Absenden
URL:https://bkmv.ch/event/bkmv-workshop-effiziente-probenarbeit-im-blasorchester/
LOCATION:Kompetenzzentrum Militärmusik Kaserne Bern\, Papiermühlestrasse 13b\, Bern\, 3014
ATTACH;FMTTYPE=image/png:https://bkmv.ch/wp-content/uploads/2025/08/Proben-mit-Pfiff-scaled.png
END:VEVENT
BEGIN:VEVENT
DTSTART;VALUE=DATE:20251018
DTEND;VALUE=DATE:20251019
DTSTAMP:20260419T135559
CREATED:20250913T061616Z
LAST-MODIFIED:20250913T061616Z
UID:10000837-1760745600-1760831999@bkmv.ch
SUMMARY:Böhmisch-Mährische Blasmusik in Rüeggisberg
DESCRIPTION:Flyer Böhmisch-Mährische Blasmusik \nBöhmisch-Mährische Blasmusik vom Feinsten!\nAbendessen möglich ab 18:30 Uhr\, Konzertbeginn um 20:00 Uhr
URL:https://bkmv.ch/event/boehmisch-maehrische-blasmusik-in-rueeggisberg/
LOCATION:Mehrzweckhalle Rüeggisberg
END:VEVENT
END:VCALENDAR