BEGIN:VCALENDAR
VERSION:2.0
PRODID:-//Bernischer Kantonal-Musikverband BKMV - ECPv6.15.15//NONSGML v1.0//EN
CALSCALE:GREGORIAN
METHOD:PUBLISH
X-ORIGINAL-URL:https://bkmv.ch
X-WR-CALDESC:Veranstaltungen im Bernischer Kantonal-Musikverband BKMV
REFRESH-INTERVAL;VALUE=DURATION:PT1H
X-Robots-Tag:noindex
X-PUBLISHED-TTL:PT1H
BEGIN:VTIMEZONE
TZID:Europe/Zurich
BEGIN:DAYLIGHT
TZOFFSETFROM:+0100
TZOFFSETTO:+0200
TZNAME:CEST
DTSTART:20240331T010000
END:DAYLIGHT
BEGIN:STANDARD
TZOFFSETFROM:+0200
TZOFFSETTO:+0100
TZNAME:CET
DTSTART:20241027T010000
END:STANDARD
BEGIN:DAYLIGHT
TZOFFSETFROM:+0100
TZOFFSETTO:+0200
TZNAME:CEST
DTSTART:20250330T010000
END:DAYLIGHT
BEGIN:STANDARD
TZOFFSETFROM:+0200
TZOFFSETTO:+0100
TZNAME:CET
DTSTART:20251026T010000
END:STANDARD
BEGIN:DAYLIGHT
TZOFFSETFROM:+0100
TZOFFSETTO:+0200
TZNAME:CEST
DTSTART:20260329T010000
END:DAYLIGHT
BEGIN:STANDARD
TZOFFSETFROM:+0200
TZOFFSETTO:+0100
TZNAME:CET
DTSTART:20261025T010000
END:STANDARD
END:VTIMEZONE
BEGIN:VEVENT
DTSTART;VALUE=DATE:20250511
DTEND;VALUE=DATE:20250512
DTSTAMP:20260420T082915
CREATED:20250429T075858Z
LAST-MODIFIED:20250429T080119Z
UID:10000434-1746921600-1747007999@bkmv.ch
SUMMARY:Matinée-Konzert der Musikgesellschaft Bönigen
DESCRIPTION:Flyer – Matinée-Konzert MG Bönigen \n  \nAm Muttertag laden die Gemeinde Bönigen\, die Pfarrkreiskommission Bönigen-Iseltwald und die Musikgesellschaft Bönigen zum Matinée-Konzert ein. Die MGB präsentiert eine Kurzfassung des Jahreskonzerts mit Ehrung der Jubilaren.
URL:https://bkmv.ch/event/matinee-konzert-der-musikgesellschaft-boenigen/
LOCATION:Mehrzweckhalle Bönigen
END:VEVENT
BEGIN:VEVENT
DTSTART;VALUE=DATE:20250511
DTEND;VALUE=DATE:20250512
DTSTAMP:20260420T082915
CREATED:20250122T092355Z
LAST-MODIFIED:20250122T092355Z
UID:10000149-1746921600-1747007999@bkmv.ch
SUMMARY:Frühlingskonzert der Musikgesellschaft Herzogenbuchsee
DESCRIPTION:
URL:https://bkmv.ch/event/fruehlingskonzert-der-musikgesellschaft-herzogenbuchsee/
LOCATION:Ref. Kirche Herzogenbuchsee
END:VEVENT
BEGIN:VEVENT
DTSTART;VALUE=DATE:20250511
DTEND;VALUE=DATE:20250512
DTSTAMP:20260420T082915
CREATED:20250304T083006Z
LAST-MODIFIED:20250304T083612Z
UID:10000186-1746921600-1747007999@bkmv.ch
SUMMARY:Jahreskonzert der Spielgemeinschaft Harmonie Ittigen-Papiermühle und Musikgesellschaft Urtenen-Schönbühl
DESCRIPTION:mit den musikalischen Gästen\nChor BOLLITT’o misto (Gemischter Chor Bolligen + Gemischter Chor Ittigen)
URL:https://bkmv.ch/event/jahreskonzert-der-spielgemeinschaft-harmonie-ittigen-papiermuehle-musikgesellschaft-urtenen-schoenbuehl-2/
LOCATION:Aula Oberstufenzentrum Ittigen
END:VEVENT
BEGIN:VEVENT
DTSTART;VALUE=DATE:20250511
DTEND;VALUE=DATE:20250512
DTSTAMP:20260420T082915
CREATED:20250405T120518Z
LAST-MODIFIED:20250405T120518Z
UID:10000221-1746921600-1747007999@bkmv.ch
SUMMARY:Muttertagsbrunch der Musikgesellschaft Riggisberg
DESCRIPTION:Flyer – Muttertagsbrunch
URL:https://bkmv.ch/event/muttertagsbrunch-der-musikgesellschaft-riggisberg/
LOCATION:Turnhalle\, 3132 Riggisberg
END:VEVENT
END:VCALENDAR