BEGIN:VCALENDAR
VERSION:2.0
PRODID:-//Bernischer Kantonal-Musikverband BKMV - ECPv6.15.15//NONSGML v1.0//EN
CALSCALE:GREGORIAN
METHOD:PUBLISH
X-WR-CALNAME:Bernischer Kantonal-Musikverband BKMV
X-ORIGINAL-URL:https://bkmv.ch
X-WR-CALDESC:Veranstaltungen im Bernischer Kantonal-Musikverband BKMV
REFRESH-INTERVAL;VALUE=DURATION:PT1H
X-Robots-Tag:noindex
X-PUBLISHED-TTL:PT1H
BEGIN:VTIMEZONE
TZID:Europe/Zurich
BEGIN:DAYLIGHT
TZOFFSETFROM:+0100
TZOFFSETTO:+0200
TZNAME:CEST
DTSTART:20240331T010000
END:DAYLIGHT
BEGIN:STANDARD
TZOFFSETFROM:+0200
TZOFFSETTO:+0100
TZNAME:CET
DTSTART:20241027T010000
END:STANDARD
BEGIN:DAYLIGHT
TZOFFSETFROM:+0100
TZOFFSETTO:+0200
TZNAME:CEST
DTSTART:20250330T010000
END:DAYLIGHT
BEGIN:STANDARD
TZOFFSETFROM:+0200
TZOFFSETTO:+0100
TZNAME:CET
DTSTART:20251026T010000
END:STANDARD
BEGIN:DAYLIGHT
TZOFFSETFROM:+0100
TZOFFSETTO:+0200
TZNAME:CEST
DTSTART:20260329T010000
END:DAYLIGHT
BEGIN:STANDARD
TZOFFSETFROM:+0200
TZOFFSETTO:+0100
TZNAME:CET
DTSTART:20261025T010000
END:STANDARD
END:VTIMEZONE
BEGIN:VEVENT
DTSTART;VALUE=DATE:20250503
DTEND;VALUE=DATE:20250504
DTSTAMP:20260420T064421
CREATED:20250402T125802Z
LAST-MODIFIED:20250402T125802Z
UID:10000210-1746230400-1746316799@bkmv.ch
SUMMARY:Jahreskonzert der Musikgesellschaft Zimmerwald-Niedermuhlern
DESCRIPTION:Flyer – Jahreskonzert
URL:https://bkmv.ch/event/jahreskonzert-der-musikgesellschaft-zimmerwald-niedermuhlern/2025-05-03/
LOCATION:Kirche Zimmerwald
END:VEVENT
BEGIN:VEVENT
DTSTART;VALUE=DATE:20250503
DTEND;VALUE=DATE:20250504
DTSTAMP:20260420T064421
CREATED:20250402T132135Z
LAST-MODIFIED:20250402T133521Z
UID:10000216-1746230400-1746316799@bkmv.ch
SUMMARY:BEA - Auftritt der BOMV-Band
DESCRIPTION:
URL:https://bkmv.ch/event/bea-auftritt-der-bomv-band/
END:VEVENT
BEGIN:VEVENT
DTSTART;VALUE=DATE:20250503
DTEND;VALUE=DATE:20250504
DTSTAMP:20260420T064421
CREATED:20250416T071520Z
LAST-MODIFIED:20250416T071635Z
UID:10000427-1746230400-1746316799@bkmv.ch
SUMMARY:Frühlingskonzert der Jugendmusik Konolfingen
DESCRIPTION:Flyer – Frühlingskonzert
URL:https://bkmv.ch/event/fruehlingskonzert-der-jugendmusik-konolfingen/
LOCATION:Kirchgemeindehaus Konolfingen
END:VEVENT
END:VCALENDAR