BEGIN:VCALENDAR
VERSION:2.0
PRODID:-//Bernischer Kantonal-Musikverband BKMV - ECPv6.15.15//NONSGML v1.0//EN
CALSCALE:GREGORIAN
METHOD:PUBLISH
X-WR-CALNAME:Bernischer Kantonal-Musikverband BKMV
X-ORIGINAL-URL:https://bkmv.ch
X-WR-CALDESC:Veranstaltungen im Bernischer Kantonal-Musikverband BKMV
REFRESH-INTERVAL;VALUE=DURATION:PT1H
X-Robots-Tag:noindex
X-PUBLISHED-TTL:PT1H
BEGIN:VTIMEZONE
TZID:Europe/Zurich
BEGIN:DAYLIGHT
TZOFFSETFROM:+0100
TZOFFSETTO:+0200
TZNAME:CEST
DTSTART:20240331T010000
END:DAYLIGHT
BEGIN:STANDARD
TZOFFSETFROM:+0200
TZOFFSETTO:+0100
TZNAME:CET
DTSTART:20241027T010000
END:STANDARD
BEGIN:DAYLIGHT
TZOFFSETFROM:+0100
TZOFFSETTO:+0200
TZNAME:CEST
DTSTART:20250330T010000
END:DAYLIGHT
BEGIN:STANDARD
TZOFFSETFROM:+0200
TZOFFSETTO:+0100
TZNAME:CET
DTSTART:20251026T010000
END:STANDARD
BEGIN:DAYLIGHT
TZOFFSETFROM:+0100
TZOFFSETTO:+0200
TZNAME:CEST
DTSTART:20260329T010000
END:DAYLIGHT
BEGIN:STANDARD
TZOFFSETFROM:+0200
TZOFFSETTO:+0100
TZNAME:CET
DTSTART:20261025T010000
END:STANDARD
END:VTIMEZONE
BEGIN:VEVENT
DTSTART;VALUE=DATE:20250406
DTEND;VALUE=DATE:20250407
DTSTAMP:20260420T185000
CREATED:20241121T095725Z
LAST-MODIFIED:20250122T092801Z
UID:10000126-1743897600-1743983999@bkmv.ch
SUMMARY:Frühlingskonzert in der Kirche - Musikgesellschaft Bützberg
DESCRIPTION:Flyer Frühlingskonzert in der Kirche
URL:https://bkmv.ch/event/konzert-in-der-kirche-musikgesellschaft-buetzberg/
LOCATION:Kirche Thunstetten
END:VEVENT
BEGIN:VEVENT
DTSTART;VALUE=DATE:20250406
DTEND;VALUE=DATE:20250407
DTSTAMP:20260420T185000
CREATED:20250204T153854Z
LAST-MODIFIED:20250204T154126Z
UID:10000169-1743897600-1743983999@bkmv.ch
SUMMARY:Frühlingskonzert der Musikgesellschaft Jegenstorf
DESCRIPTION:Konzertbeginn um 14:00 Uhr
URL:https://bkmv.ch/event/fruehlingskonzert-der-musikgesellschaft-jegenstorf-2/
LOCATION:Kirchgemeindehaus Jegenstorf
END:VEVENT
BEGIN:VEVENT
DTSTART;VALUE=DATE:20250406
DTEND;VALUE=DATE:20250407
DTSTAMP:20260420T185000
CREATED:20250307T104435Z
LAST-MODIFIED:20250307T104435Z
UID:10000190-1743897600-1743983999@bkmv.ch
SUMMARY:Frühlingskonzert der Musikgesellschaft Brienz
DESCRIPTION:Flyer Frühlingskonzert
URL:https://bkmv.ch/event/fruehlingskonzert-der-musikgesellschaft-brienz/
LOCATION:Gemeindehaus Didlen\, Brienz
END:VEVENT
BEGIN:VEVENT
DTSTART;VALUE=DATE:20250406
DTEND;VALUE=DATE:20250407
DTSTAMP:20260420T185000
CREATED:20250318T093428Z
LAST-MODIFIED:20250318T093428Z
UID:10000203-1743897600-1743983999@bkmv.ch
SUMMARY:Frühlingskonzert der Brass Band Oberdiessbach
DESCRIPTION:Flyer – Frühlingskonzert
URL:https://bkmv.ch/event/fruehlingskonzert-der-brass-band-oberdiessbach/2025-04-06/
LOCATION:Aula Sekundarschule\, Kirchbühlstrasse 30 Oberdiessbach
END:VEVENT
END:VCALENDAR