BEGIN:VCALENDAR
VERSION:2.0
PRODID:-//Bernischer Kantonal-Musikverband BKMV - ECPv6.15.15//NONSGML v1.0//EN
CALSCALE:GREGORIAN
METHOD:PUBLISH
X-WR-CALNAME:Bernischer Kantonal-Musikverband BKMV
X-ORIGINAL-URL:https://bkmv.ch
X-WR-CALDESC:Veranstaltungen im Bernischer Kantonal-Musikverband BKMV
REFRESH-INTERVAL;VALUE=DURATION:PT1H
X-Robots-Tag:noindex
X-PUBLISHED-TTL:PT1H
BEGIN:VTIMEZONE
TZID:Europe/Zurich
BEGIN:DAYLIGHT
TZOFFSETFROM:+0100
TZOFFSETTO:+0200
TZNAME:CEST
DTSTART:20230326T010000
END:DAYLIGHT
BEGIN:STANDARD
TZOFFSETFROM:+0200
TZOFFSETTO:+0100
TZNAME:CET
DTSTART:20231029T010000
END:STANDARD
BEGIN:DAYLIGHT
TZOFFSETFROM:+0100
TZOFFSETTO:+0200
TZNAME:CEST
DTSTART:20240331T010000
END:DAYLIGHT
BEGIN:STANDARD
TZOFFSETFROM:+0200
TZOFFSETTO:+0100
TZNAME:CET
DTSTART:20241027T010000
END:STANDARD
BEGIN:DAYLIGHT
TZOFFSETFROM:+0100
TZOFFSETTO:+0200
TZNAME:CEST
DTSTART:20250330T010000
END:DAYLIGHT
BEGIN:STANDARD
TZOFFSETFROM:+0200
TZOFFSETTO:+0100
TZNAME:CET
DTSTART:20251026T010000
END:STANDARD
END:VTIMEZONE
BEGIN:VEVENT
DTSTART;VALUE=DATE:20241201
DTEND;VALUE=DATE:20241202
DTSTAMP:20260421T181537
CREATED:20240910T073058Z
LAST-MODIFIED:20240910T073058Z
UID:10000023-1733011200-1733097599@bkmv.ch
SUMMARY:Predigt 1. Advent Musikgesellschaft Sumiswald
DESCRIPTION:Umrahmung Gottesdienst
URL:https://bkmv.ch/event/predigt-1-advent-musikgesellschaft-sumiswald/
LOCATION:Kirche Sumiswald
END:VEVENT
BEGIN:VEVENT
DTSTART;VALUE=DATE:20241201
DTEND;VALUE=DATE:20241202
DTSTAMP:20260421T181537
CREATED:20241003T062842Z
LAST-MODIFIED:20241003T062842Z
UID:10000068-1733011200-1733097599@bkmv.ch
SUMMARY:Kirchenkonzert Musikgesellschaft Wilderswil
DESCRIPTION:
URL:https://bkmv.ch/event/kirchenkonzert-musikgesellschaft-wilderswil/
LOCATION:Kirche Gsteig Wilderswil
END:VEVENT
BEGIN:VEVENT
DTSTART;VALUE=DATE:20241201
DTEND;VALUE=DATE:20241202
DTSTAMP:20260421T181537
CREATED:20241009T120740Z
LAST-MODIFIED:20241009T120740Z
UID:10000073-1733011200-1733097599@bkmv.ch
SUMMARY:Adventskonzert Spielgemeinschaft HIP/MGUS
DESCRIPTION:Flyer Adventskonzert \nDie Musikantinnen und Musikanten der Spielgemeinschaft HIP/MGUS laden Sie herzlich zu einem stimmungsvollen Konzert ein\, unter Mitwirkung des Panflötenensembles «PanMagic».
URL:https://bkmv.ch/event/adventskonzert-spielgemeinschaft-hip-mgus/
LOCATION:Kirche Urtenen
END:VEVENT
BEGIN:VEVENT
DTSTART;VALUE=DATE:20241201
DTEND;VALUE=DATE:20241202
DTSTAMP:20260421T181537
CREATED:20241017T140114Z
LAST-MODIFIED:20241017T140114Z
UID:10000077-1733011200-1733097599@bkmv.ch
SUMMARY:Konzert im Advent Musikgesellschaft Frauenkappelen
DESCRIPTION:Flyer – Konzert im Advent
URL:https://bkmv.ch/event/konzert-im-advent-musikgesellschaft-frauenkappelen/
LOCATION:Mehrzweckanlage Zälgli\, Frauenkappelen
END:VEVENT
BEGIN:VEVENT
DTSTART;VALUE=DATE:20241201
DTEND;VALUE=DATE:20241202
DTSTAMP:20260421T181537
CREATED:20241103T155108Z
LAST-MODIFIED:20241103T155108Z
UID:10000090-1733011200-1733097599@bkmv.ch
SUMMARY:Adventskonzert Musikgesellschaft Zimmerwald-Niedermuhlern
DESCRIPTION:Flyer Adventskonzert
URL:https://bkmv.ch/event/adventskonzert-musikgesellschaft-zimmerwald-niedermuhlern-2/
LOCATION:Kirche\, 3086 Zimmerwald
END:VEVENT
BEGIN:VEVENT
DTSTART;VALUE=DATE:20241201
DTEND;VALUE=DATE:20241202
DTSTAMP:20260421T181537
CREATED:20241108T081622Z
LAST-MODIFIED:20241108T081937Z
UID:10000104-1733011200-1733097599@bkmv.ch
SUMMARY:Konzert zum Advent Musikgesellschaft Allmendingen/Thun
DESCRIPTION:Flyer Adventskonzert
URL:https://bkmv.ch/event/lottomatch-musikgesellschaft-allmendingen-thun-3/
LOCATION:Mehrzweckhalle  Allmendingen-Thun
END:VEVENT
BEGIN:VEVENT
DTSTART;VALUE=DATE:20241201
DTEND;VALUE=DATE:20241202
DTSTAMP:20260421T181537
CREATED:20241108T095337Z
LAST-MODIFIED:20241108T095337Z
UID:10000106-1733011200-1733097599@bkmv.ch
SUMMARY:Konzert im Advent Musikgesellschaft Schüpbach
DESCRIPTION:Flyer Konzert im Advent
URL:https://bkmv.ch/event/konzert-im-advent-musikgesellschaft-schuepbach/
LOCATION:Kirche Signau
END:VEVENT
BEGIN:VEVENT
DTSTART;VALUE=DATE:20241201
DTEND;VALUE=DATE:20241202
DTSTAMP:20260421T181537
CREATED:20241109T132333Z
LAST-MODIFIED:20241109T132333Z
UID:10000110-1733011200-1733097599@bkmv.ch
SUMMARY:Lotto Musikgesellschaft Konolfingen
DESCRIPTION:Flyer Lotto \nWie bereits letztes Jahr findet unser Musig-Lotto im Kirchgemeindehaus Konolfingen statt. Getränke werden von uns serviert. Zudem gibt es Schweinswürstli\, Sandwichs und Nussgipfel.
URL:https://bkmv.ch/event/lotto-musikgesellschaft-konolfingen-2/
LOCATION:Kirchgemeindehaus Konolfingen
END:VEVENT
BEGIN:VEVENT
DTSTART;VALUE=DATE:20241201
DTEND;VALUE=DATE:20241202
DTSTAMP:20260421T181537
CREATED:20241121T095049Z
LAST-MODIFIED:20241121T095049Z
UID:10000124-1733011200-1733097599@bkmv.ch
SUMMARY:Winterkonzert Musikgesellschaft Rubigen
DESCRIPTION:Konzertbeginn 16.00 Uhr
URL:https://bkmv.ch/event/winterkonzert-musikgesellschaft-rubigen/
LOCATION:Aula\, Schule Rubigen
END:VEVENT
BEGIN:VEVENT
DTSTART;VALUE=DATE:20241201
DTEND;VALUE=DATE:20241202
DTSTAMP:20260421T181537
CREATED:20241121T095505Z
LAST-MODIFIED:20241121T095505Z
UID:10000125-1733011200-1733097599@bkmv.ch
SUMMARY:Kirchenkonzert Musikgesellschaft Madiswil
DESCRIPTION:Konzertbeginn 20.00 Uhr
URL:https://bkmv.ch/event/kirchenkonzert-musikgesellschaft-madiswil/
LOCATION:Kirche Madiswil
END:VEVENT
END:VCALENDAR