BEGIN:VCALENDAR
VERSION:2.0
PRODID:-//Bernischer Kantonal-Musikverband BKMV - ECPv6.15.15//NONSGML v1.0//EN
CALSCALE:GREGORIAN
METHOD:PUBLISH
X-ORIGINAL-URL:https://bkmv.ch
X-WR-CALDESC:Veranstaltungen im Bernischer Kantonal-Musikverband BKMV
REFRESH-INTERVAL;VALUE=DURATION:PT1H
X-Robots-Tag:noindex
X-PUBLISHED-TTL:PT1H
BEGIN:VTIMEZONE
TZID:Europe/Zurich
BEGIN:DAYLIGHT
TZOFFSETFROM:+0100
TZOFFSETTO:+0200
TZNAME:CEST
DTSTART:20230326T010000
END:DAYLIGHT
BEGIN:STANDARD
TZOFFSETFROM:+0200
TZOFFSETTO:+0100
TZNAME:CET
DTSTART:20231029T010000
END:STANDARD
BEGIN:DAYLIGHT
TZOFFSETFROM:+0100
TZOFFSETTO:+0200
TZNAME:CEST
DTSTART:20240331T010000
END:DAYLIGHT
BEGIN:STANDARD
TZOFFSETFROM:+0200
TZOFFSETTO:+0100
TZNAME:CET
DTSTART:20241027T010000
END:STANDARD
BEGIN:DAYLIGHT
TZOFFSETFROM:+0100
TZOFFSETTO:+0200
TZNAME:CEST
DTSTART:20250330T010000
END:DAYLIGHT
BEGIN:STANDARD
TZOFFSETFROM:+0200
TZOFFSETTO:+0100
TZNAME:CET
DTSTART:20251026T010000
END:STANDARD
END:VTIMEZONE
BEGIN:VEVENT
DTSTART;VALUE=DATE:20241123
DTEND;VALUE=DATE:20241124
DTSTAMP:20260421T164421
CREATED:20241002T065739Z
LAST-MODIFIED:20241008T084315Z
UID:10000063-1732320000-1732406399@bkmv.ch
SUMMARY:Workshop Umsetzung Expertise BKMF
DESCRIPTION:Workshop mit Aldo Werlen \n09.00 – 12.00 Uhr \nFlyer Workshop Umsetzung Expertise \nAnrede *HerrFrauVorname *Name *Adresse *Stadt *PLZ *MusikvereinTelefon *E-Mail *Anregungen und Fragen0 / 180 Bitte bestätigen *Die Kosten für den Workshop (30 Franken) werden vorgängig elektronisch in Rechnung gestellt. Absenden
URL:https://bkmv.ch/event/workshop-umsetzung-expertise-bkmv/
LOCATION:Kompetenzzentrum Militärmusik Kaserne Bern\, Papiermühlestrasse 13b\, Bern\, 3014
END:VEVENT
BEGIN:VEVENT
DTSTART;VALUE=DATE:20241123
DTEND;VALUE=DATE:20241124
DTSTAMP:20260421T164421
CREATED:20241108T081356Z
LAST-MODIFIED:20241108T081356Z
UID:10000102-1732320000-1732406399@bkmv.ch
SUMMARY:Lottomatch Musikgesellschaft Allmendingen/Thun
DESCRIPTION:Flyer – Lottomatch
URL:https://bkmv.ch/event/lottomatch-musikgesellschaft-allmendingen-thun/
LOCATION:Mehrzweckhalle  Allmendingen-Thun
END:VEVENT
BEGIN:VEVENT
DTSTART;VALUE=DATE:20241123
DTEND;VALUE=DATE:20241124
DTSTAMP:20260421T164421
CREATED:20241119T085719Z
LAST-MODIFIED:20241119T085743Z
UID:10000114-1732320000-1732406399@bkmv.ch
SUMMARY:Lotto Musikverein Thun
DESCRIPTION:Halle O\n24erLotto
URL:https://bkmv.ch/event/lotto-musikverein-thun/
LOCATION:Thun EXPO
END:VEVENT
END:VCALENDAR