BEGIN:VCALENDAR
VERSION:2.0
PRODID:-//Bernischer Kantonal-Musikverband BKMV - ECPv6.15.15//NONSGML v1.0//EN
CALSCALE:GREGORIAN
METHOD:PUBLISH
X-ORIGINAL-URL:https://bkmv.ch
X-WR-CALDESC:Veranstaltungen im Bernischer Kantonal-Musikverband BKMV
REFRESH-INTERVAL;VALUE=DURATION:PT1H
X-Robots-Tag:noindex
X-PUBLISHED-TTL:PT1H
BEGIN:VTIMEZONE
TZID:Europe/Zurich
BEGIN:DAYLIGHT
TZOFFSETFROM:+0100
TZOFFSETTO:+0200
TZNAME:CEST
DTSTART:20230326T010000
END:DAYLIGHT
BEGIN:STANDARD
TZOFFSETFROM:+0200
TZOFFSETTO:+0100
TZNAME:CET
DTSTART:20231029T010000
END:STANDARD
BEGIN:DAYLIGHT
TZOFFSETFROM:+0100
TZOFFSETTO:+0200
TZNAME:CEST
DTSTART:20240331T010000
END:DAYLIGHT
BEGIN:STANDARD
TZOFFSETFROM:+0200
TZOFFSETTO:+0100
TZNAME:CET
DTSTART:20241027T010000
END:STANDARD
BEGIN:DAYLIGHT
TZOFFSETFROM:+0100
TZOFFSETTO:+0200
TZNAME:CEST
DTSTART:20250330T010000
END:DAYLIGHT
BEGIN:STANDARD
TZOFFSETFROM:+0200
TZOFFSETTO:+0100
TZNAME:CET
DTSTART:20251026T010000
END:STANDARD
END:VTIMEZONE
BEGIN:VEVENT
DTSTART;VALUE=DATE:20241116
DTEND;VALUE=DATE:20241117
DTSTAMP:20260423T154239
CREATED:20240702T082822Z
LAST-MODIFIED:20241107T091524Z
UID:10000022-1731715200-1731801599@bkmv.ch
SUMMARY:Delegiertenversammlung des BKMV
DESCRIPTION:Allgemeine Informationen zur Delegiertenversammlung \nTraktandenliste \nJahresbericht \nProtokoll 119. DV des BKMV 11.11.2023 \nVeteranen (Merkblatt) \nVerstorbene (Übersicht gemeldete Todesfälle) \nEssen \n  \nAnmeldung Sektionen (Hitobito) \n  \nAnmeldung Ehrengäste
URL:https://bkmv.ch/event/delegiertenversammlung-des-bkmv/
LOCATION:Markthalle Burgdorf
END:VEVENT
BEGIN:VEVENT
DTSTART;VALUE=DATE:20241116
DTEND;VALUE=DATE:20241117
DTSTAMP:20260423T154239
CREATED:20240702T085827Z
LAST-MODIFIED:20241029T100325Z
UID:10000028-1731715200-1731801599@bkmv.ch
SUMMARY:Jahreskonzert Musikgesellschaft Bützberg
DESCRIPTION:Flyer Konzertprogramm \nFestwirtschaft mit Abendessen ab 19:00 Uhr
URL:https://bkmv.ch/event/jahreskonzert-musikgesellschaft-buetzberg/
LOCATION:Mehrzweckanlage Bützberg
END:VEVENT
BEGIN:VEVENT
DTSTART;VALUE=DATE:20241116
DTEND;VALUE=DATE:20241117
DTSTAMP:20260423T154239
CREATED:20240704T090946Z
LAST-MODIFIED:20240704T090946Z
UID:10000032-1731715200-1731801599@bkmv.ch
SUMMARY:Musik-Lotto Musikgesellschaft Thörigen
DESCRIPTION:
URL:https://bkmv.ch/event/musik-lotto-musikgesellschaft-thoerigen/
LOCATION:Mehrzweckhalle Thörigen
END:VEVENT
BEGIN:VEVENT
DTSTART;VALUE=DATE:20241116
DTEND;VALUE=DATE:20241117
DTSTAMP:20260423T154239
CREATED:20241002T061338Z
LAST-MODIFIED:20241002T061338Z
UID:10000060-1731715200-1731801599@bkmv.ch
SUMMARY:Kirchenkonzert Musikgesellschaft Wahlendorf
DESCRIPTION:Flyer Kirchenkonzert
URL:https://bkmv.ch/event/kirchenkonzert-musikgesellschaft-wahlendorf/
LOCATION:Kirche Meikirch
END:VEVENT
BEGIN:VEVENT
DTSTART;VALUE=DATE:20241116
DTEND;VALUE=DATE:20241117
DTSTAMP:20260423T154239
CREATED:20241024T113521Z
LAST-MODIFIED:20241024T113521Z
UID:10000086-1731715200-1731801599@bkmv.ch
SUMMARY:Social Media Workshop Solothurner Musikverband
DESCRIPTION:SOBV-Flyer_Social_Media_Workshops \nGrundlagen zu Foto und Video mit praktischen Anwendungen
URL:https://bkmv.ch/event/social-media-workshop-solothurner-musikverband-2/
LOCATION:Sportzentrum Zuchwil
END:VEVENT
BEGIN:VEVENT
DTSTART;VALUE=DATE:20241116
DTEND;VALUE=DATE:20241117
DTSTAMP:20260423T154239
CREATED:20241107T104526Z
LAST-MODIFIED:20241107T104526Z
UID:10000097-1731715200-1731801599@bkmv.ch
SUMMARY:Lotto Musikgesellschaft Riggisberg
DESCRIPTION:Flyer Lotto
URL:https://bkmv.ch/event/lotto-musikgesellschaft-riggisberg-2/
LOCATION:Aula Schulhaus Aebnit Riggisberg
END:VEVENT
BEGIN:VEVENT
DTSTART;VALUE=DATE:20241116
DTEND;VALUE=DATE:20241117
DTSTAMP:20260423T154239
CREATED:20241107T125300Z
LAST-MODIFIED:20241107T125300Z
UID:10000099-1731715200-1731801599@bkmv.ch
SUMMARY:Jahreskonzert Feldmusik Strättligen
DESCRIPTION:Flyer Jahreskonzert Feldmusik Strättligen
URL:https://bkmv.ch/event/jahreskonzert-feldmusik-straettligen-2/
LOCATION:Aula Schulhaus Gotthelf\, Sustenstrasse 2\, 3604 Thun
END:VEVENT
END:VCALENDAR